BEGIN:VCALENDAR
VERSION:2.0
PRODID:-// - ECPv6.15.20//NONSGML v1.0//EN
CALSCALE:GREGORIAN
METHOD:PUBLISH
X-ORIGINAL-URL:https://bol.church
X-WR-CALDESC:Events for 
REFRESH-INTERVAL;VALUE=DURATION:PT1H
X-Robots-Tag:noindex
X-PUBLISHED-TTL:PT1H
BEGIN:VTIMEZONE
TZID:America/New_York
BEGIN:DAYLIGHT
TZOFFSETFROM:-0500
TZOFFSETTO:-0400
TZNAME:EDT
DTSTART:20240310T070000
END:DAYLIGHT
BEGIN:STANDARD
TZOFFSETFROM:-0400
TZOFFSETTO:-0500
TZNAME:EST
DTSTART:20241103T060000
END:STANDARD
BEGIN:DAYLIGHT
TZOFFSETFROM:-0500
TZOFFSETTO:-0400
TZNAME:EDT
DTSTART:20250309T070000
END:DAYLIGHT
BEGIN:STANDARD
TZOFFSETFROM:-0400
TZOFFSETTO:-0500
TZNAME:EST
DTSTART:20251102T060000
END:STANDARD
BEGIN:DAYLIGHT
TZOFFSETFROM:-0500
TZOFFSETTO:-0400
TZNAME:EDT
DTSTART:20260308T070000
END:DAYLIGHT
BEGIN:STANDARD
TZOFFSETFROM:-0400
TZOFFSETTO:-0500
TZNAME:EST
DTSTART:20261101T060000
END:STANDARD
END:VTIMEZONE
BEGIN:VEVENT
DTSTART;TZID=America/New_York:20250108T190000
DTEND;TZID=America/New_York:20250108T200000
DTSTAMP:20260423T133741
CREATED:20250117T132627Z
LAST-MODIFIED:20250117T132627Z
UID:3000-1736362800-1736366400@bol.church
SUMMARY:Family Night Bible Study: Every Wednesday @ 7PM
DESCRIPTION:Each Wednesday at 7 pm\, we have our family night bible studies. There are classes for every age \nExciting: We are also starting our Young Adult class this Wednesday emphasizing prayer.  \nFor more details on what to expect from these classes and the topics being covered\, please contact the church at: 610 449 1251 or via our Facebook Page at BOL Church
URL:https://bol.church/event/family-night-bible-study-every-wednesday-7pm-9/
LOCATION:Bread Of Life Church – Main building\, 110 S State Road\, Upper Darby\, PA\, 19082\, United States
ATTACH;FMTTYPE=image/png:https://bol.church/wp-content/uploads/2024/05/FAMILY-NIGHT-pic.png
END:VEVENT
BEGIN:VEVENT
DTSTART;TZID=America/New_York:20250110T190000
DTEND;TZID=America/New_York:20250110T200000
DTSTAMP:20260423T133741
CREATED:20240926T005709Z
LAST-MODIFIED:20250117T162316Z
UID:2678-1736535600-1736539200@bol.church
SUMMARY:Weekly Prayer Meeting: Every Friday @ 7PM
DESCRIPTION:The prayer group meets in the annexed conference room of the main sanctuary every Friday (except for Flame Services) \nAt 7 PM. Please join us! There is no problem too big for Jesus to handle when his saints gather together to pray. We welcome everyone! \nMatthew 18:19-20 Kjv: \n Again\, I say unto you that if two of you agree on earth to touch anything that they ask\, it shall be done for them of my Father\, who is in heaven. \n [20] For where two or three are gathered together in my name\, there am I in the midst of them.
URL:https://bol.church/event/weekly-prayer-meeting-every-friday-7pm-31/
LOCATION:PA
ATTACH;FMTTYPE=image/png:https://bol.church/wp-content/uploads/2024/09/Friday-Prayer-Meeting.png
END:VEVENT
BEGIN:VEVENT
DTSTART;TZID=America/New_York:20250115T190000
DTEND;TZID=America/New_York:20250115T200000
DTSTAMP:20260423T133741
CREATED:20250117T132712Z
LAST-MODIFIED:20250117T132712Z
UID:2999-1736967600-1736971200@bol.church
SUMMARY:Family Night Bible Study: Every Wednesday @ 7PM
DESCRIPTION:Each Wednesday at 7 pm\, we have our family night bible studies. There are classes for every age \nExciting: We are also starting our Young Adult class this Wednesday emphasizing prayer.  \nFor more details on what to expect from these classes and the topics being covered\, please get in touch with the church at: 610 449 1251 or via our Facebook Page at BOL Church
URL:https://bol.church/event/family-night-bible-study-every-wednesday-7pm-16/
LOCATION:Bread Of Life Church – Main building\, 110 S State Road\, Upper Darby\, PA\, 19082\, United States
ATTACH;FMTTYPE=image/png:https://bol.church/wp-content/uploads/2024/05/FAMILY-NIGHT-pic.png
END:VEVENT
BEGIN:VEVENT
DTSTART;TZID=America/New_York:20250116T190000
DTEND;TZID=America/New_York:20250116T203000
DTSTAMP:20260423T133741
CREATED:20250206T184414Z
LAST-MODIFIED:20250206T184414Z
UID:3266-1737054000-1737059400@bol.church
SUMMARY:Women's Gathering: Third Tuesday of every month at 7PM.
DESCRIPTION:Women meet for a fellowship gathering at 7 PM  every third Tuesday\, monthly. All are welcome! \n 
URL:https://bol.church/event/womens-gathering-third-tuesday-of-every-month-at-7pm-12/
LOCATION:Bread Of Life Church – Main building\, 110 S State Road\, Upper Darby\, PA\, 19082\, United States
CATEGORIES:Women-Events
ATTACH;FMTTYPE=image/jpeg:https://bol.church/wp-content/uploads/2022/12/church-front-lawn.jpg
END:VEVENT
BEGIN:VEVENT
DTSTART;TZID=America/New_York:20250117T190000
DTEND;TZID=America/New_York:20250117T200000
DTSTAMP:20260423T133741
CREATED:20250117T162605Z
LAST-MODIFIED:20250117T162605Z
UID:3110-1737140400-1737144000@bol.church
SUMMARY:Weekly Prayer Meeting: Every Friday @ 7PM
DESCRIPTION:The prayer group meets in the annexed conference room of the main sanctuary every Friday (except for Flame Services) \nAt 7 PM. Please join us! There is no problem too big for Jesus to handle when his saints gather together to pray. We welcome everyone! \nMatthew 18:19-20 Kjv: \n Again\, I say unto you that if two of you agree on earth to touch anything that they ask\, it shall be done for them of my Father\, who is in heaven. \n [20] For where two or three are gathered together in my name\, there am I in the midst of them.
URL:https://bol.church/event/weekly-prayer-meeting-every-friday-7pm-17/
LOCATION:PA
ATTACH;FMTTYPE=image/png:https://bol.church/wp-content/uploads/2024/09/Friday-Prayer-Meeting.png
END:VEVENT
BEGIN:VEVENT
DTSTART;TZID=America/New_York:20250119T101500
DTEND;TZID=America/New_York:20250119T130000
DTSTAMP:20260423T133741
CREATED:20240923T203856Z
LAST-MODIFIED:20240923T203856Z
UID:2476-1737281700-1737291600@bol.church
SUMMARY:Missions Sunday & Kingdom Builders
DESCRIPTION:The third Sunday of every month is dedicated to supporting missionaries.
URL:https://bol.church/event/missions-sunday-kingdom-builders-10/
LOCATION:Bread Of Life Church – Main building\, 110 S State Road\, Upper Darby\, PA\, 19082\, United States
ATTACH;FMTTYPE=image/jpeg:https://bol.church/wp-content/uploads/2022/09/missions.jpg
END:VEVENT
BEGIN:VEVENT
DTSTART;TZID=America/New_York:20250119T190000
DTEND;TZID=America/New_York:20250119T210000
DTSTAMP:20260423T133741
CREATED:20250117T201253Z
LAST-MODIFIED:20250117T201253Z
UID:3198-1737313200-1737320400@bol.church
SUMMARY:Friday Night Flame: 3rd Friday of every month
DESCRIPTION:Join us every 3rd Friday of the month as we celebrate in worship together through praise\, worship\, and prayers! \nNothing is too big for our Lord Jesus. We encourage you to come with a heart expecting a miracle from the Lord. \nTime and place – 7PM – 9 PM\,  Venue: Bread of Life worship edifice.
URL:https://bol.church/event/friday-night-flame-3rd-friday-of-every-month-9/
LOCATION:PA
CATEGORIES:Friday Flame
ATTACH;FMTTYPE=image/jpeg:https://bol.church/wp-content/uploads/2021/05/img20211121_17532193.jpg
END:VEVENT
BEGIN:VEVENT
DTSTART;TZID=America/New_York:20250122T190000
DTEND;TZID=America/New_York:20250122T200000
DTSTAMP:20260423T133741
CREATED:20250117T132828Z
LAST-MODIFIED:20250117T132828Z
UID:2998-1737572400-1737576000@bol.church
SUMMARY:Family Night Bible Study: Every Wednesday @ 7PM
DESCRIPTION:Each Wednesday at 7 pm\, we have our family night bible studies. There are classes for every age \nExciting: We now have a Young-Adults  class every Wednesday. \nFor more details on what to expect from these classes and the topics being covered\, please get in touch with the church at: 610 449 1251 or via our Facebook Page at BOL Church
URL:https://bol.church/event/family-night-bible-study-every-wednesday-7pm-23/
LOCATION:Bread Of Life Church – Main building\, 110 S State Road\, Upper Darby\, PA\, 19082\, United States
ATTACH;FMTTYPE=image/png:https://bol.church/wp-content/uploads/2024/05/FAMILY-NIGHT-pic.png
END:VEVENT
BEGIN:VEVENT
DTSTART;TZID=America/New_York:20250124T190000
DTEND;TZID=America/New_York:20250124T200000
DTSTAMP:20260423T133741
CREATED:20250117T162621Z
LAST-MODIFIED:20250117T162621Z
UID:3109-1737745200-1737748800@bol.church
SUMMARY:Weekly Prayer Meeting: Every Friday @ 7PM
DESCRIPTION:The prayer group meets in the annexed conference room of the main sanctuary every Friday (except for Flame Services) \nAt 7 PM. Please join us! There is no problem too big for Jesus to handle when his saints gather together to pray. We welcome everyone! \nMatthew 18:19-20 Kjv: \n Again\, I say unto you that if two of you agree on earth to touch anything that they ask\, it shall be done for them of my Father\, who is in heaven. \n [20] For where two or three are gathered together in my name\, there am I in the midst of them.
URL:https://bol.church/event/weekly-prayer-meeting-every-friday-7pm-21/
LOCATION:PA
ATTACH;FMTTYPE=image/png:https://bol.church/wp-content/uploads/2024/09/Friday-Prayer-Meeting.png
END:VEVENT
BEGIN:VEVENT
DTSTART;TZID=America/New_York:20250129T190000
DTEND;TZID=America/New_York:20250129T200000
DTSTAMP:20260423T133741
CREATED:20250117T132957Z
LAST-MODIFIED:20250117T132957Z
UID:2997-1738177200-1738180800@bol.church
SUMMARY:Family Night Bible Study: Every Wednesday @ 7PM
DESCRIPTION:Each Wednesday at 7 pm\, we have our family night bible studies. There are classes for every age \nExciting: We now have a young adult class every Wednesday. \nFor more details on what to expect from these classes and the topics being covered\, please get in touch with the church at: 610 449 1251 or via our Facebook Page at BOL Church
URL:https://bol.church/event/family-night-bible-study-every-wednesday-7pm-24/
LOCATION:Bread Of Life Church – Main building\, 110 S State Road\, Upper Darby\, PA\, 19082\, United States
ATTACH;FMTTYPE=image/png:https://bol.church/wp-content/uploads/2024/05/FAMILY-NIGHT-pic.png
END:VEVENT
BEGIN:VEVENT
DTSTART;TZID=America/New_York:20250131T190000
DTEND;TZID=America/New_York:20250131T200000
DTSTAMP:20260423T133741
CREATED:20250117T162634Z
LAST-MODIFIED:20250117T162634Z
UID:3108-1738350000-1738353600@bol.church
SUMMARY:Weekly Prayer Meeting: Every Friday @ 7PM
DESCRIPTION:The prayer group meets in the annexed conference room of the main sanctuary every Friday (except for Flame Services) \nAt 7 PM. Please join us! There is no problem too big for Jesus to handle when his saints gather together to pray. We welcome everyone! \nMatthew 18:19-20 Kjv: \n Again\, I say unto you that if two of you agree on earth to touch anything that they ask\, it shall be done for them of my Father\, who is in heaven. \n [20] For where two or three are gathered together in my name\, there am I in the midst of them.
URL:https://bol.church/event/weekly-prayer-meeting-every-friday-7pm-48/
LOCATION:PA
ATTACH;FMTTYPE=image/png:https://bol.church/wp-content/uploads/2024/09/Friday-Prayer-Meeting.png
END:VEVENT
BEGIN:VEVENT
DTSTART;TZID=America/New_York:20250201T090000
DTEND;TZID=America/New_York:20250201T120000
DTSTAMP:20260423T133741
CREATED:20250206T181946Z
LAST-MODIFIED:20250206T181946Z
UID:3231-1738400400-1738411200@bol.church
SUMMARY:Evangelism- First Saturday of every month
DESCRIPTION:Every First Saturday of each month\, we gather together as a church for outreach/evangelism. Please do not hesitate to contact us if you\,  or someone you know has a need. \n 
URL:https://bol.church/event/evangelism-first-saturday-of-every-month-12/
LOCATION:Bread Of Life Church – Main building\, 110 S State Road\, Upper Darby\, PA\, 19082\, United States
CATEGORIES:Missions
ATTACH;FMTTYPE=image/jpeg:https://bol.church/wp-content/uploads/2022/09/evangelism-69thstreet.jpg
END:VEVENT
BEGIN:VEVENT
DTSTART;TZID=America/New_York:20250202T101500
DTEND;TZID=America/New_York:20250202T123000
DTSTAMP:20260423T133741
CREATED:20250117T120537Z
LAST-MODIFIED:20250703T152531Z
UID:2946-1738491300-1738499400@bol.church
SUMMARY:Communion Service- First Sunday
DESCRIPTION:Whether it is your first time visiting us\, or a returning/current member\, you are welcome to participate in our open\ncommunion service once you know The Lord Jesus as your savior. \nWe only ask that parents or guardians of children kindly take oversight in allowing your child/children to participate\nin the communion service. If your child can clearly articulate their faith in The Lord Jesus\, they are also welcome\n(with your permission)\, to participate. \n1 Corinthians 11:17-34 has clear instructions on the Lord’s supper. Read it here
URL:https://bol.church/event/communion-service-first-sunday-copy/
LOCATION:Bread Of Life Church – Main building\, 110 S State Road\, Upper Darby\, PA\, 19082\, United States
CATEGORIES:Communion Sundays
ATTACH;FMTTYPE=image/jpeg:https://bol.church/wp-content/uploads/2022/09/communion.jpg
END:VEVENT
BEGIN:VEVENT
DTSTART;TZID=America/New_York:20250205T190000
DTEND;TZID=America/New_York:20250205T200000
DTSTAMP:20260423T133741
CREATED:20250117T133018Z
LAST-MODIFIED:20250117T133018Z
UID:2996-1738782000-1738785600@bol.church
SUMMARY:Family Night Bible Study: Every Wednesday @ 7PM
DESCRIPTION:Each Wednesday at 7 pm\, we have our family night bible studies. There are classes for every age \nExciting: We now have a young adult class every Wednesday. \nFor more details on what to expect from these classes and the topics being covered\, please get in touch with the church at: 610 449 1251 or via our Facebook Page at BOL Church
URL:https://bol.church/event/family-night-bible-study-every-wednesday-7pm-25/
LOCATION:Bread Of Life Church – Main building\, 110 S State Road\, Upper Darby\, PA\, 19082\, United States
ATTACH;FMTTYPE=image/png:https://bol.church/wp-content/uploads/2024/05/FAMILY-NIGHT-pic.png
END:VEVENT
BEGIN:VEVENT
DTSTART;TZID=America/New_York:20250207T190000
DTEND;TZID=America/New_York:20250207T200000
DTSTAMP:20260423T133741
CREATED:20250117T162648Z
LAST-MODIFIED:20250117T162648Z
UID:3107-1738954800-1738958400@bol.church
SUMMARY:Weekly Prayer Meeting: Every Friday @ 7PM
DESCRIPTION:The prayer group meets in the annexed conference room of the main sanctuary every Friday (except for Flame Services) \nAt 7 PM. Please join us! There is no problem too big for Jesus to handle when his saints gather together to pray. We welcome everyone! \nMatthew 18:19-20 Kjv: \n Again\, I say unto you that if two of you agree on earth to touch anything that they ask\, it shall be done for them of my Father\, who is in heaven. \n [20] For where two or three are gathered together in my name\, there am I in the midst of them.
URL:https://bol.church/event/weekly-prayer-meeting-every-friday-7pm-49/
LOCATION:PA
ATTACH;FMTTYPE=image/png:https://bol.church/wp-content/uploads/2024/09/Friday-Prayer-Meeting.png
END:VEVENT
BEGIN:VEVENT
DTSTART;TZID=America/New_York:20250212T190000
DTEND;TZID=America/New_York:20250212T200000
DTSTAMP:20260423T133741
CREATED:20250117T133038Z
LAST-MODIFIED:20250117T133038Z
UID:2995-1739386800-1739390400@bol.church
SUMMARY:Family Night Bible Study: Every Wednesday @ 7PM
DESCRIPTION:Each Wednesday at 7 pm\, we have our family night bible studies. There are classes for every age \nExciting: We now have a young adult class every Wednesday. \nFor more details on what to expect from these classes and the topics being covered\, please get in touch with the church at: 610 449 1251 or via our Facebook Page at BOL Church
URL:https://bol.church/event/family-night-bible-study-every-wednesday-7pm-26/
LOCATION:Bread Of Life Church – Main building\, 110 S State Road\, Upper Darby\, PA\, 19082\, United States
ATTACH;FMTTYPE=image/png:https://bol.church/wp-content/uploads/2024/05/FAMILY-NIGHT-pic.png
END:VEVENT
BEGIN:VEVENT
DTSTART;TZID=America/New_York:20250214T190000
DTEND;TZID=America/New_York:20250214T200000
DTSTAMP:20260423T133741
CREATED:20221203T225442Z
LAST-MODIFIED:20250703T161455Z
UID:1663-1739559600-1739563200@bol.church
SUMMARY:Youth Gathering: 2nd & 4th Friday Monthly  at 7 PM
DESCRIPTION:Youth gathering occurs every 2nd and 4th Friday of the month. \n 
URL:https://bol.church/event/youth-children-ministries-every-wednesday-7pm-27/
LOCATION:Bread Of Life Church – Main building\, 110 S State Road\, Upper Darby\, PA\, 19082\, United States
ATTACH;FMTTYPE=image/jpeg:https://bol.church/wp-content/uploads/2025/02/qtq80-WZExpy.jpeg
END:VEVENT
BEGIN:VEVENT
DTSTART;TZID=America/New_York:20250214T190000
DTEND;TZID=America/New_York:20250214T200000
DTSTAMP:20260423T133741
CREATED:20250117T162701Z
LAST-MODIFIED:20250117T162701Z
UID:3106-1739559600-1739563200@bol.church
SUMMARY:Weekly Prayer Meeting: Every Friday @ 7PM
DESCRIPTION:The prayer group meets in the annexed conference room of the main sanctuary every Friday (except for Flame Services) \nAt 7 PM. Please join us! There is no problem too big for Jesus to handle when his saints gather together to pray. We welcome everyone! \nMatthew 18:19-20 Kjv: \n Again\, I say unto you that if two of you agree on earth to touch anything that they ask\, it shall be done for them of my Father\, who is in heaven. \n [20] For where two or three are gathered together in my name\, there am I in the midst of them.
URL:https://bol.church/event/weekly-prayer-meeting-every-friday-7pm-50/
LOCATION:PA
ATTACH;FMTTYPE=image/png:https://bol.church/wp-content/uploads/2024/09/Friday-Prayer-Meeting.png
END:VEVENT
BEGIN:VEVENT
DTSTART;TZID=America/New_York:20250216T101500
DTEND;TZID=America/New_York:20250216T130000
DTSTAMP:20260423T133741
CREATED:20250117T125633Z
LAST-MODIFIED:20250117T125633Z
UID:2968-1739700900-1739710800@bol.church
SUMMARY:Missions Sunday & Kingdom Builders
DESCRIPTION:The third Sunday of every month is dedicated to supporting missionaries. \nVisiting Missionary: Nick Robertson
URL:https://bol.church/event/missions-sunday-kingdom-builders-14/
LOCATION:Bread Of Life Church – Main building\, 110 S State Road\, Upper Darby\, PA\, 19082\, United States
ATTACH;FMTTYPE=image/jpeg:https://bol.church/wp-content/uploads/2025/01/sis-charles-e1737118359537.jpg
END:VEVENT
BEGIN:VEVENT
DTSTART;TZID=America/New_York:20250219T190000
DTEND;TZID=America/New_York:20250219T200000
DTSTAMP:20260423T133741
CREATED:20250117T133106Z
LAST-MODIFIED:20250117T133106Z
UID:2992-1739991600-1739995200@bol.church
SUMMARY:Family Night Bible Study: Every Wednesday @ 7PM
DESCRIPTION:Each Wednesday at 7 pm\, we have our family night bible studies. There are classes for every age \nExciting: We now have a young adult class every Wednesday. \nFor more details on what to expect from these classes and the topics being covered\, please get in touch with the church at: 610 449 1251 or via our Facebook Page at BOL Church
URL:https://bol.church/event/family-night-bible-study-every-wednesday-7pm-27/
LOCATION:Bread Of Life Church – Main building\, 110 S State Road\, Upper Darby\, PA\, 19082\, United States
ATTACH;FMTTYPE=image/png:https://bol.church/wp-content/uploads/2024/05/FAMILY-NIGHT-pic.png
END:VEVENT
BEGIN:VEVENT
DTSTART;TZID=America/New_York:20250220T190000
DTEND;TZID=America/New_York:20250220T203000
DTSTAMP:20260423T133741
CREATED:20250206T184623Z
LAST-MODIFIED:20250206T184623Z
UID:3278-1740078000-1740083400@bol.church
SUMMARY:Women's Gathering: Third Tuesday of every month at 7PM.
DESCRIPTION:Women meet for a fellowship gathering at 7 PM  every third Tuesday\, monthly. All are welcome! \n 
URL:https://bol.church/event/womens-gathering-third-tuesday-of-every-month-at-7pm-13/
LOCATION:Bread Of Life Church – Main building\, 110 S State Road\, Upper Darby\, PA\, 19082\, United States
CATEGORIES:Women-Events
ATTACH;FMTTYPE=image/jpeg:https://bol.church/wp-content/uploads/2022/12/church-front-lawn.jpg
END:VEVENT
BEGIN:VEVENT
DTSTART;TZID=America/New_York:20250221T190000
DTEND;TZID=America/New_York:20250221T200000
DTSTAMP:20260423T133741
CREATED:20250117T162717Z
LAST-MODIFIED:20250117T162717Z
UID:3105-1740164400-1740168000@bol.church
SUMMARY:Weekly Prayer Meeting: Every Friday @ 7PM
DESCRIPTION:The prayer group meets in the annexed conference room of the main sanctuary every Friday (except for Flame Services) \nAt 7 PM. Please join us! There is no problem too big for Jesus to handle when his saints gather together to pray. We welcome everyone! \nMatthew 18:19-20 Kjv: \n Again\, I say unto you that if two of you agree on earth to touch anything that they ask\, it shall be done for them of my Father\, who is in heaven. \n [20] For where two or three are gathered together in my name\, there am I in the midst of them.
URL:https://bol.church/event/weekly-prayer-meeting-every-friday-7pm-51/
LOCATION:PA
ATTACH;FMTTYPE=image/png:https://bol.church/wp-content/uploads/2024/09/Friday-Prayer-Meeting.png
END:VEVENT
BEGIN:VEVENT
DTSTART;TZID=America/New_York:20250221T190000
DTEND;TZID=America/New_York:20250221T210000
DTSTAMP:20260423T133741
CREATED:20250117T201327Z
LAST-MODIFIED:20250117T201327Z
UID:3197-1740164400-1740171600@bol.church
SUMMARY:Friday Night Flame: 3rd Friday of every month
DESCRIPTION:Join us every 3rd Friday of the month as we celebrate in worship together through praise\, worship\, and prayers! \nNothing is too big for our Lord Jesus. We encourage you to come with a heart expecting a miracle from the Lord. \nTime and place – 7PM – 9 PM\,  Venue: Bread of Life worship edifice.
URL:https://bol.church/event/friday-night-flame-3rd-friday-of-every-month-10/
LOCATION:PA
CATEGORIES:Friday Flame
ATTACH;FMTTYPE=image/jpeg:https://bol.church/wp-content/uploads/2021/05/img20211121_17532193.jpg
END:VEVENT
BEGIN:VEVENT
DTSTART;TZID=America/New_York:20250222T090000
DTEND;TZID=America/New_York:20250222T100000
DTSTAMP:20260423T133741
CREATED:20240926T013943Z
LAST-MODIFIED:20250206T183136Z
UID:2777-1740214800-1740218400@bol.church
SUMMARY:Saturday Men's Breakfast
DESCRIPTION:All Men are encouraged to attend our monthly morning fellowship.\nOccurs every last  Saturday of the month at 9:AM.\n\nHave something you’d like us to pray for but can’t come in person? Drop your request at the Church’s dropbox or send us your request via PRAYER WALL
URL:https://bol.church/event/saturday-mens-breakfast-8/
LOCATION:Bread Of Life Church – Main building\, 110 S State Road\, Upper Darby\, PA\, 19082\, United States
CATEGORIES:Men-Events
ATTACH;FMTTYPE=image/jpeg:https://bol.church/wp-content/uploads/2024/09/qtq80-yMT0nL.jpeg
END:VEVENT
BEGIN:VEVENT
DTSTART;TZID=America/New_York:20250226T190000
DTEND;TZID=America/New_York:20250226T200000
DTSTAMP:20260423T133741
CREATED:20250117T133128Z
LAST-MODIFIED:20250117T133128Z
UID:2989-1740596400-1740600000@bol.church
SUMMARY:Family Night Bible Study: Every Wednesday @ 7PM
DESCRIPTION:Each Wednesday at 7 pm\, we have our family night bible studies. There are classes for every age \nExciting: We now have a young adult class every Wednesday. \nFor more details on what to expect from these classes and the topics being covered\, please get in touch with the church at: 610 449 1251 or via our Facebook Page at BOL Church
URL:https://bol.church/event/family-night-bible-study-every-wednesday-7pm-28/
LOCATION:Bread Of Life Church – Main building\, 110 S State Road\, Upper Darby\, PA\, 19082\, United States
ATTACH;FMTTYPE=image/png:https://bol.church/wp-content/uploads/2024/05/FAMILY-NIGHT-pic.png
END:VEVENT
BEGIN:VEVENT
DTSTART;TZID=America/New_York:20250228T190000
DTEND;TZID=America/New_York:20250228T200000
DTSTAMP:20260423T133741
CREATED:20250117T162753Z
LAST-MODIFIED:20250117T162753Z
UID:3103-1740769200-1740772800@bol.church
SUMMARY:Weekly Prayer Meeting: Every Friday @ 7PM
DESCRIPTION:The prayer group meets in the annexed conference room of the main sanctuary every Friday (except for Flame Services) \nAt 7 PM. Please join us! There is no problem too big for Jesus to handle when his saints gather together to pray. We welcome everyone! \nMatthew 18:19-20 Kjv: \n Again\, I say unto you that if two of you agree on earth to touch anything that they ask\, it shall be done for them of my Father\, who is in heaven. \n [20] For where two or three are gathered together in my name\, there am I in the midst of them.
URL:https://bol.church/event/weekly-prayer-meeting-every-friday-7pm-52/
LOCATION:PA
ATTACH;FMTTYPE=image/png:https://bol.church/wp-content/uploads/2024/09/Friday-Prayer-Meeting.png
END:VEVENT
BEGIN:VEVENT
DTSTART;TZID=America/New_York:20250228T190000
DTEND;TZID=America/New_York:20250228T200000
DTSTAMP:20260423T133741
CREATED:20250703T161753Z
LAST-MODIFIED:20250703T161753Z
UID:3412-1740769200-1740772800@bol.church
SUMMARY:Youth Gathering: 2nd & 4th Friday Monthly  at 7 PM
DESCRIPTION:Youth gathering occurs every 2nd and 4th Friday of the month. \n 
URL:https://bol.church/event/youth-gathering-2nd-4th-friday-monthly-at-7-pm/
LOCATION:Bread Of Life Church – Main building\, 110 S State Road\, Upper Darby\, PA\, 19082\, United States
ATTACH;FMTTYPE=image/jpeg:https://bol.church/wp-content/uploads/2025/02/qtq80-WZExpy.jpeg
END:VEVENT
BEGIN:VEVENT
DTSTART;TZID=America/New_York:20250301T090000
DTEND;TZID=America/New_York:20250301T120000
DTSTAMP:20260423T133741
CREATED:20250206T182006Z
LAST-MODIFIED:20250206T182006Z
UID:3230-1740819600-1740830400@bol.church
SUMMARY:Evangelism- First Saturday of every month
DESCRIPTION:Every First Saturday of each month\, we gather together as a church for outreach/evangelism. Please do not hesitate to contact us if you\,  or someone you know has a need. \n 
URL:https://bol.church/event/evangelism-first-saturday-of-every-month-13/
LOCATION:Bread Of Life Church – Main building\, 110 S State Road\, Upper Darby\, PA\, 19082\, United States
CATEGORIES:Missions
ATTACH;FMTTYPE=image/jpeg:https://bol.church/wp-content/uploads/2022/09/evangelism-69thstreet.jpg
END:VEVENT
BEGIN:VEVENT
DTSTART;TZID=America/New_York:20250302T101500
DTEND;TZID=America/New_York:20250302T123000
DTSTAMP:20260423T133741
CREATED:20250117T120554Z
LAST-MODIFIED:20250703T152523Z
UID:2945-1740910500-1740918600@bol.church
SUMMARY:Communion Service- First Sunday
DESCRIPTION:Whether it is your first time visiting us\, or a returning/current member\, you are welcome to participate in our open\ncommunion service once you know The Lord Jesus as your savior. \nWe only ask that parents or guardians of children kindly take oversight in allowing your child/children to participate\nin the communion service. If your child can clearly articulate their faith in The Lord Jesus\, they are also welcome\n(with your permission)\, to participate. \n1 Corinthians 11:17-34 has clear instructions on the Lord’s supper. Read it here
URL:https://bol.church/event/communion-service-first-sunday-copy-2/
LOCATION:Bread Of Life Church – Main building\, 110 S State Road\, Upper Darby\, PA\, 19082\, United States
CATEGORIES:Communion Sundays
ATTACH;FMTTYPE=image/jpeg:https://bol.church/wp-content/uploads/2022/09/communion.jpg
END:VEVENT
BEGIN:VEVENT
DTSTART;TZID=America/New_York:20250305T190000
DTEND;TZID=America/New_York:20250305T200000
DTSTAMP:20260423T133741
CREATED:20250117T133147Z
LAST-MODIFIED:20250117T133147Z
UID:2990-1741201200-1741204800@bol.church
SUMMARY:Family Night Bible Study: Every Wednesday @ 7PM
DESCRIPTION:Each Wednesday at 7 pm\, we have our family night bible studies. There are classes for every age \nExciting: We now have a young adult class every Wednesday. \nFor more details on what to expect from these classes and the topics being covered\, please get in touch with the church at: 610 449 1251 or via our Facebook Page at BOL Church
URL:https://bol.church/event/family-night-bible-study-every-wednesday-7pm-29/
LOCATION:Bread Of Life Church – Main building\, 110 S State Road\, Upper Darby\, PA\, 19082\, United States
ATTACH;FMTTYPE=image/png:https://bol.church/wp-content/uploads/2024/05/FAMILY-NIGHT-pic.png
END:VEVENT
END:VCALENDAR