BEGIN:VCALENDAR
VERSION:2.0
PRODID:-// - ECPv6.15.20//NONSGML v1.0//EN
CALSCALE:GREGORIAN
METHOD:PUBLISH
X-ORIGINAL-URL:https://bol.church
X-WR-CALDESC:Events for 
REFRESH-INTERVAL;VALUE=DURATION:PT1H
X-Robots-Tag:noindex
X-PUBLISHED-TTL:PT1H
BEGIN:VTIMEZONE
TZID:America/New_York
BEGIN:DAYLIGHT
TZOFFSETFROM:-0500
TZOFFSETTO:-0400
TZNAME:EDT
DTSTART:20230312T070000
END:DAYLIGHT
BEGIN:STANDARD
TZOFFSETFROM:-0400
TZOFFSETTO:-0500
TZNAME:EST
DTSTART:20231105T060000
END:STANDARD
BEGIN:DAYLIGHT
TZOFFSETFROM:-0500
TZOFFSETTO:-0400
TZNAME:EDT
DTSTART:20240310T070000
END:DAYLIGHT
BEGIN:STANDARD
TZOFFSETFROM:-0400
TZOFFSETTO:-0500
TZNAME:EST
DTSTART:20241103T060000
END:STANDARD
BEGIN:DAYLIGHT
TZOFFSETFROM:-0500
TZOFFSETTO:-0400
TZNAME:EDT
DTSTART:20250309T070000
END:DAYLIGHT
BEGIN:STANDARD
TZOFFSETFROM:-0400
TZOFFSETTO:-0500
TZNAME:EST
DTSTART:20251102T060000
END:STANDARD
BEGIN:DAYLIGHT
TZOFFSETFROM:-0500
TZOFFSETTO:-0400
TZNAME:EDT
DTSTART:20260308T070000
END:DAYLIGHT
BEGIN:STANDARD
TZOFFSETFROM:-0400
TZOFFSETTO:-0500
TZNAME:EST
DTSTART:20261101T060000
END:STANDARD
END:VTIMEZONE
BEGIN:VEVENT
DTSTART;TZID=America/New_York:20241106T190000
DTEND;TZID=America/New_York:20241106T200000
DTSTAMP:20260423T093900
CREATED:20240923T224257Z
LAST-MODIFIED:20240923T224257Z
UID:2551-1730919600-1730923200@bol.church
SUMMARY:Family Night Bible Study: Every Wednesday @ 7PM
DESCRIPTION:Each Wednesday at 7 pm\, we will be studying the 16 Foundational Truths of the Assemblies of God; notes from Pastor Tom’s WordQuest workbook will be provided each week. \nUpcoming topics include the Inspiration of the Word of God; the Unity and Trinity of God; the Deity and Humanity of Jesus; the Fall of Humanity; and Salvation.
URL:https://bol.church/event/family-night-bible-study-every-wednesday-7pm-13/
LOCATION:Bread Of Life Church – Main building\, 110 S State Road\, Upper Darby\, PA\, 19082\, United States
ATTACH;FMTTYPE=image/png:https://bol.church/wp-content/uploads/2024/05/FAMILY-NIGHT-pic.png
END:VEVENT
BEGIN:VEVENT
DTSTART;TZID=America/New_York:20241108T080000
DTEND;TZID=America/New_York:20241109T170000
DTSTAMP:20260423T093900
CREATED:20240926T024515Z
LAST-MODIFIED:20240926T024540Z
UID:2819-1731052800-1731171600@bol.church
SUMMARY:PennDel Women's Conference
DESCRIPTION:Please see sister PeggyAnne for details. \nIt is our prayer and hope that all women participate in this event. \nTransportation and other arrangements from Bread Of Life to the conference center are being coordinated by Sister PegggyAnne.
URL:https://bol.church/event/penndel-womens-conference/
LOCATION:Hershey & Lodge Convention Center\, United States
ATTACH;FMTTYPE=image/jpeg:https://bol.church/wp-content/uploads/2024/09/women-pendell-conference.jpg
END:VEVENT
BEGIN:VEVENT
DTSTART;TZID=America/New_York:20241108T190000
DTEND;TZID=America/New_York:20241108T200000
DTSTAMP:20260423T093900
CREATED:20240926T005727Z
LAST-MODIFIED:20240926T005727Z
UID:2685-1731092400-1731096000@bol.church
SUMMARY:Weekly Prayer Meeting: Every Friday @ 7PM
DESCRIPTION:The prayer group meets in the annexed conference room of the main sanctuary every Friday (except for Flame Services) \nAt 7 PM. Please join us! There is no problem too big for Jesus to handle when his saints gather together to pray. We welcome everyone! \nMatthew 18:19-20 Kjv: \n Again\, I say unto you that if two of you agree on earth to touch anything that they ask\, it shall be done for them of my Father\, who is in heaven. \n [20] For where two or three are gathered together in my name\, there am I in the midst of them.
URL:https://bol.church/event/weekly-prayer-meeting-every-friday-7pm-38/
LOCATION:PA
ATTACH;FMTTYPE=image/jpeg:https://bol.church/wp-content/uploads/2024/09/qtq80-28Xe51.jpeg
END:VEVENT
BEGIN:VEVENT
DTSTART;TZID=America/New_York:20241113T190000
DTEND;TZID=America/New_York:20241113T200000
DTSTAMP:20260423T093900
CREATED:20240923T224426Z
LAST-MODIFIED:20240923T224426Z
UID:2550-1731524400-1731528000@bol.church
SUMMARY:Family Night Bible Study: Every Wednesday @ 7PM
DESCRIPTION:Each Wednesday at 7 pm\, we will be studying the 16 Foundational Truths of the Assemblies of God; notes from Pastor Tom’s WordQuest workbook will be provided each week. \nUpcoming topics include the Inspiration of the Word of God; the Unity and Trinity of God; the Deity and Humanity of Jesus; the Fall of Humanity; and Salvation.
URL:https://bol.church/event/family-night-bible-study-every-wednesday-7pm-14/
LOCATION:Bread Of Life Church – Main building\, 110 S State Road\, Upper Darby\, PA\, 19082\, United States
ATTACH;FMTTYPE=image/png:https://bol.church/wp-content/uploads/2024/05/FAMILY-NIGHT-pic.png
END:VEVENT
BEGIN:VEVENT
DTSTART;TZID=America/New_York:20241115T183000
DTEND;TZID=America/New_York:20241115T210000
DTSTAMP:20260423T093900
CREATED:20240926T010821Z
LAST-MODIFIED:20241010T165737Z
UID:2719-1731695400-1731704400@bol.church
SUMMARY:Missions  Banquet
DESCRIPTION:Friday Missions Banquet—6:30-9:00pm (banquet and message). \nOur visiting guest\, Pastor Leroy Singh\, will deliver a special message during this event.
URL:https://bol.church/event/friday-night-flame-3rd-friday-of-every-month-2/
LOCATION:PA
CATEGORIES:Friday Flame
ATTACH;FMTTYPE=image/jpeg:https://bol.church/wp-content/uploads/2022/05/qtq80-lNOVae.jpeg
END:VEVENT
BEGIN:VEVENT
DTSTART;TZID=America/New_York:20241116T090000
DTEND;TZID=America/New_York:20241116T100000
DTSTAMP:20260423T093900
CREATED:20240801T215747Z
LAST-MODIFIED:20241010T165906Z
UID:2395-1731747600-1731751200@bol.church
SUMMARY:Saturday Men's Breakfast. Special Guest
DESCRIPTION:All Men are encouraged to attend our monthly morning fellowship.\nOccurs every 3rd Saturday at 9:AM.\n\nPastor Leroy Singh from Guyana will be our visiting special guest during this time. Please invite a brother\, friend\, and or neighbor. \nHave something you’d like us to pray for but can’t come in person? Drop your request at the Church’s dropbox or send us your request via PRAYER WALL
URL:https://bol.church/event/saturday-mens-breakfast-4/
LOCATION:Bread Of Life Church – Main building\, 110 S State Road\, Upper Darby\, PA\, 19082\, United States
ATTACH;FMTTYPE=image/jpeg:https://bol.church/wp-content/uploads/2024/09/qtq80-yMT0nL.jpeg
END:VEVENT
BEGIN:VEVENT
DTSTART;TZID=America/New_York:20241116T113000
DTEND;TZID=America/New_York:20241116T143000
DTSTAMP:20260423T093900
CREATED:20241112T043842Z
LAST-MODIFIED:20241112T044740Z
UID:2879-1731756600-1731767400@bol.church
SUMMARY:Condolence to the family of Jason and Kalika Colbert
DESCRIPTION:Our condolences to Jason and Kalika Colbert’s family- on the passing of Jason’s father. \n  \n 
URL:https://bol.church/event/condolence-to-the-family-of-jason-and-kalika-colbert/
LOCATION:Bread Of Life Church – Main building\, 110 S State Road\, Upper Darby\, PA\, 19082\, United States
ATTACH;FMTTYPE=image/jpeg:https://bol.church/wp-content/uploads/2024/11/Screenshot-2024-11-11-232420.jpg
END:VEVENT
BEGIN:VEVENT
DTSTART;TZID=America/New_York:20241117T101500
DTEND;TZID=America/New_York:20241117T123000
DTSTAMP:20260423T093900
CREATED:20240916T224117Z
LAST-MODIFIED:20241010T165225Z
UID:2455-1731838500-1731846600@bol.church
SUMMARY:Annual Missions Convention & Banquet
DESCRIPTION:Annual Missions Convention & Banque with Pastor Leroy Singh. \n 
URL:https://bol.church/event/missions-sunday-kingdom-builders/
LOCATION:Bread Of Life Church – Main building\, 110 S State Road\, Upper Darby\, PA\, 19082\, United States
ATTACH;FMTTYPE=image/jpeg:https://bol.church/wp-content/uploads/2022/09/missions.jpg
END:VEVENT
BEGIN:VEVENT
DTSTART;TZID=America/New_York:20241119T190000
DTEND;TZID=America/New_York:20241119T203000
DTSTAMP:20260423T093900
CREATED:20231012T225349Z
LAST-MODIFIED:20240926T020621Z
UID:1914-1732042800-1732048200@bol.church
SUMMARY:Women's Gathering: Third Tuesdays of every month at 7PM.
DESCRIPTION:Women meet for a fellowship gathering at 7 PM  every third Tuesday\, monthly. All are welcome! \n 
URL:https://bol.church/event/womens-ministry/
LOCATION:Bread Of Life Church – Main building\, 110 S State Road\, Upper Darby\, PA\, 19082\, United States
CATEGORIES:Women-Events
ATTACH;FMTTYPE=image/jpeg:https://bol.church/wp-content/uploads/2022/12/church-front-lawn.jpg
END:VEVENT
BEGIN:VEVENT
DTSTART;TZID=America/New_York:20241120T190000
DTEND;TZID=America/New_York:20241120T200000
DTSTAMP:20260423T093900
CREATED:20240923T224429Z
LAST-MODIFIED:20240923T224429Z
UID:2549-1732129200-1732132800@bol.church
SUMMARY:Family Night Bible Study: Every Wednesday @ 7PM
DESCRIPTION:Each Wednesday at 7 pm\, we will be studying the 16 Foundational Truths of the Assemblies of God; notes from Pastor Tom’s WordQuest workbook will be provided each week. \nUpcoming topics include the Inspiration of the Word of God; the Unity and Trinity of God; the Deity and Humanity of Jesus; the Fall of Humanity; and Salvation.
URL:https://bol.church/event/family-night-bible-study-every-wednesday-7pm-15/
LOCATION:Bread Of Life Church – Main building\, 110 S State Road\, Upper Darby\, PA\, 19082\, United States
ATTACH;FMTTYPE=image/png:https://bol.church/wp-content/uploads/2024/05/FAMILY-NIGHT-pic.png
END:VEVENT
BEGIN:VEVENT
DTSTART;TZID=America/New_York:20241122T190000
DTEND;TZID=America/New_York:20241122T200000
DTSTAMP:20260423T093900
CREATED:20240926T005725Z
LAST-MODIFIED:20240926T005725Z
UID:2684-1732302000-1732305600@bol.church
SUMMARY:Weekly Prayer Meeting: Every Friday @ 7PM
DESCRIPTION:The prayer group meets in the annexed conference room of the main sanctuary every Friday (except for Flame Services) \nAt 7 PM. Please join us! There is no problem too big for Jesus to handle when his saints gather together to pray. We welcome everyone! \nMatthew 18:19-20 Kjv: \n Again\, I say unto you that if two of you agree on earth to touch anything that they ask\, it shall be done for them of my Father\, who is in heaven. \n [20] For where two or three are gathered together in my name\, there am I in the midst of them.
URL:https://bol.church/event/weekly-prayer-meeting-every-friday-7pm-37/
LOCATION:PA
ATTACH;FMTTYPE=image/jpeg:https://bol.church/wp-content/uploads/2024/09/qtq80-28Xe51.jpeg
END:VEVENT
BEGIN:VEVENT
DTSTART;TZID=America/New_York:20241127T080000
DTEND;TZID=America/New_York:20241127T170000
DTSTAMP:20260423T093900
CREATED:20240926T025042Z
LAST-MODIFIED:20240926T025042Z
UID:2824-1732694400-1732726800@bol.church
SUMMARY:Thanksgiving Eve Service
DESCRIPTION:You are welcome to our evening service.
URL:https://bol.church/event/thanksgiving-eve-service/
LOCATION:Bread Of Life Church – Main building\, 110 S State Road\, Upper Darby\, PA\, 19082\, United States
ATTACH;FMTTYPE=image/jpeg:https://bol.church/wp-content/uploads/2024/09/happy-thanksgiving-eve-service.jpg
END:VEVENT
BEGIN:VEVENT
DTSTART;TZID=America/New_York:20241127T190000
DTEND;TZID=America/New_York:20241127T200000
DTSTAMP:20260423T093900
CREATED:20240923T224920Z
LAST-MODIFIED:20240923T224920Z
UID:2565-1732734000-1732737600@bol.church
SUMMARY:Family Night Bible Study: Every Wednesday @ 7PM
DESCRIPTION:Each Wednesday at 7 pm\, we will be studying the 16 Foundational Truths of the Assemblies of God; notes from Pastor Tom’s WordQuest workbook will be provided each week. \nUpcoming topics include the Inspiration of the Word of God; the Unity and Trinity of God; the Deity and Humanity of Jesus; the Fall of Humanity; and Salvation.
URL:https://bol.church/event/family-night-bible-study-every-wednesday-7pm-22/
LOCATION:Bread Of Life Church – Main building\, 110 S State Road\, Upper Darby\, PA\, 19082\, United States
ATTACH;FMTTYPE=image/png:https://bol.church/wp-content/uploads/2024/05/FAMILY-NIGHT-pic.png
END:VEVENT
BEGIN:VEVENT
DTSTART;TZID=America/New_York:20241129T190000
DTEND;TZID=America/New_York:20241129T200000
DTSTAMP:20260423T093900
CREATED:20240926T005722Z
LAST-MODIFIED:20240926T005722Z
UID:2681-1732906800-1732910400@bol.church
SUMMARY:Weekly Prayer Meeting: Every Friday @ 7PM
DESCRIPTION:The prayer group meets in the annexed conference room of the main sanctuary every Friday (except for Flame Services) \nAt 7 PM. Please join us! There is no problem too big for Jesus to handle when his saints gather together to pray. We welcome everyone! \nMatthew 18:19-20 Kjv: \n Again\, I say unto you that if two of you agree on earth to touch anything that they ask\, it shall be done for them of my Father\, who is in heaven. \n [20] For where two or three are gathered together in my name\, there am I in the midst of them.
URL:https://bol.church/event/weekly-prayer-meeting-every-friday-7pm-36/
LOCATION:PA
ATTACH;FMTTYPE=image/jpeg:https://bol.church/wp-content/uploads/2024/09/qtq80-28Xe51.jpeg
END:VEVENT
BEGIN:VEVENT
DTSTART;TZID=America/New_York:20241201T101500
DTEND;TZID=America/New_York:20241201T123000
DTSTAMP:20260423T093900
CREATED:20240916T213316Z
LAST-MODIFIED:20240923T205837Z
UID:2443-1733048100-1733056200@bol.church
SUMMARY:Communion Service- First Sunday
DESCRIPTION:Whether it is your first time visiting us\, or a returning/current member\, you are welcome to participate in our open\ncommunion service once you know The Lord Jesus as your savior. \nWe only ask that parents or guardians of children kindly take oversight in allowing your child/children to participate\nin the communion service. If your child can clearly articulate their faith in The Lord Jesus\, they are also welcome\n(with your permission)\, to participate. \n1 Corinthians 11:17-34 has clear instructions on the Lord’s supper. Read it here
URL:https://bol.church/event/communion-service-first-sunday-4/
LOCATION:Bread Of Life Church – Main building\, 110 S State Road\, Upper Darby\, PA\, 19082\, United States
CATEGORIES:Communion Sundays
ATTACH;FMTTYPE=image/jpeg:https://bol.church/wp-content/uploads/2022/09/communion.jpg
END:VEVENT
BEGIN:VEVENT
DTSTART;TZID=America/New_York:20241204T190000
DTEND;TZID=America/New_York:20241204T200000
DTSTAMP:20260423T093900
CREATED:20240923T224434Z
LAST-MODIFIED:20240923T224434Z
UID:2547-1733338800-1733342400@bol.church
SUMMARY:Family Night Bible Study: Every Wednesday @ 7PM
DESCRIPTION:Each Wednesday at 7 pm\, we will be studying the 16 Foundational Truths of the Assemblies of God; notes from Pastor Tom’s WordQuest workbook will be provided each week. \nUpcoming topics include the Inspiration of the Word of God; the Unity and Trinity of God; the Deity and Humanity of Jesus; the Fall of Humanity; and Salvation.
URL:https://bol.church/event/family-night-bible-study-every-wednesday-7pm-17/
LOCATION:Bread Of Life Church – Main building\, 110 S State Road\, Upper Darby\, PA\, 19082\, United States
ATTACH;FMTTYPE=image/png:https://bol.church/wp-content/uploads/2024/05/FAMILY-NIGHT-pic.png
END:VEVENT
BEGIN:VEVENT
DTSTART;TZID=America/New_York:20241206T190000
DTEND;TZID=America/New_York:20241206T200000
DTSTAMP:20260423T093900
CREATED:20240926T005720Z
LAST-MODIFIED:20240926T005720Z
UID:2682-1733511600-1733515200@bol.church
SUMMARY:Weekly Prayer Meeting: Every Friday @ 7PM
DESCRIPTION:The prayer group meets in the annexed conference room of the main sanctuary every Friday (except for Flame Services) \nAt 7 PM. Please join us! There is no problem too big for Jesus to handle when his saints gather together to pray. We welcome everyone! \nMatthew 18:19-20 Kjv: \n Again\, I say unto you that if two of you agree on earth to touch anything that they ask\, it shall be done for them of my Father\, who is in heaven. \n [20] For where two or three are gathered together in my name\, there am I in the midst of them.
URL:https://bol.church/event/weekly-prayer-meeting-every-friday-7pm-35/
LOCATION:PA
ATTACH;FMTTYPE=image/jpeg:https://bol.church/wp-content/uploads/2024/09/qtq80-28Xe51.jpeg
END:VEVENT
BEGIN:VEVENT
DTSTART;TZID=America/New_York:20241211T190000
DTEND;TZID=America/New_York:20241211T200000
DTSTAMP:20260423T093900
CREATED:20240923T224640Z
LAST-MODIFIED:20240923T224640Z
UID:2560-1733943600-1733947200@bol.church
SUMMARY:Family Night Bible Study: Every Wednesday @ 7PM
DESCRIPTION:Each Wednesday at 7 pm\, we will be studying the 16 Foundational Truths of the Assemblies of God; notes from Pastor Tom’s WordQuest workbook will be provided each week. \nUpcoming topics include the Inspiration of the Word of God; the Unity and Trinity of God; the Deity and Humanity of Jesus; the Fall of Humanity; and Salvation.
URL:https://bol.church/event/family-night-bible-study-every-wednesday-7pm-18/
LOCATION:Bread Of Life Church – Main building\, 110 S State Road\, Upper Darby\, PA\, 19082\, United States
ATTACH;FMTTYPE=image/png:https://bol.church/wp-content/uploads/2024/05/FAMILY-NIGHT-pic.png
END:VEVENT
BEGIN:VEVENT
DTSTART;TZID=America/New_York:20241213T190000
DTEND;TZID=America/New_York:20241213T200000
DTSTAMP:20260423T093900
CREATED:20240926T005717Z
LAST-MODIFIED:20240926T005717Z
UID:2683-1734116400-1734120000@bol.church
SUMMARY:Weekly Prayer Meeting: Every Friday @ 7PM
DESCRIPTION:The prayer group meets in the annexed conference room of the main sanctuary every Friday (except for Flame Services) \nAt 7 PM. Please join us! There is no problem too big for Jesus to handle when his saints gather together to pray. We welcome everyone! \nMatthew 18:19-20 Kjv: \n Again\, I say unto you that if two of you agree on earth to touch anything that they ask\, it shall be done for them of my Father\, who is in heaven. \n [20] For where two or three are gathered together in my name\, there am I in the midst of them.
URL:https://bol.church/event/weekly-prayer-meeting-every-friday-7pm-34/
LOCATION:PA
ATTACH;FMTTYPE=image/jpeg:https://bol.church/wp-content/uploads/2024/09/qtq80-28Xe51.jpeg
END:VEVENT
BEGIN:VEVENT
DTSTART;TZID=America/New_York:20241213T193000
DTEND;TZID=America/New_York:20241213T203000
DTSTAMP:20260423T093900
CREATED:20240926T025634Z
LAST-MODIFIED:20240926T025634Z
UID:2827-1734118200-1734121800@bol.church
SUMMARY:Newcomers Dessert Fellowship
DESCRIPTION:Meet and greet fellow-ship events for new members of the church.
URL:https://bol.church/event/newcomers-dessert-fellowship/
LOCATION:Bread Of Life Church – Main building\, 110 S State Road\, Upper Darby\, PA\, 19082\, United States
ATTACH;FMTTYPE=image/jpeg:https://bol.church/wp-content/uploads/2022/12/316059399_5388677081260132_4158653475894409930_n-e1670437980526.jpg
END:VEVENT
BEGIN:VEVENT
DTSTART;TZID=America/New_York:20241215T101500
DTEND;TZID=America/New_York:20241215T123000
DTSTAMP:20260423T093900
CREATED:20240916T224248Z
LAST-MODIFIED:20240923T204014Z
UID:2453-1734257700-1734265800@bol.church
SUMMARY:Missions Sunday & Kingdom Builders
DESCRIPTION:The third Sunday of every month is dedicated to supporting missionaries.
URL:https://bol.church/event/missions-sunday-kingdom-builders-2/
LOCATION:Bread Of Life Church – Main building\, 110 S State Road\, Upper Darby\, PA\, 19082\, United States
ATTACH;FMTTYPE=image/jpeg:https://bol.church/wp-content/uploads/2022/09/missions.jpg
END:VEVENT
BEGIN:VEVENT
DTSTART;TZID=America/New_York:20241217T190000
DTEND;TZID=America/New_York:20241217T203000
DTSTAMP:20260423T093900
CREATED:20240926T020507Z
LAST-MODIFIED:20240926T020643Z
UID:2787-1734462000-1734467400@bol.church
SUMMARY:Women's Gathering: Third Tuesday of every month at 7PM.
DESCRIPTION:Women meet for a fellowship gathering at 7 PM  every third Tuesday\, monthly. All are welcome! \n 
URL:https://bol.church/event/womens-gathering-third-tuesday-of-every-month-at-7pm-8/
LOCATION:Bread Of Life Church – Main building\, 110 S State Road\, Upper Darby\, PA\, 19082\, United States
CATEGORIES:Women-Events
ATTACH;FMTTYPE=image/jpeg:https://bol.church/wp-content/uploads/2022/12/church-front-lawn.jpg
END:VEVENT
BEGIN:VEVENT
DTSTART;TZID=America/New_York:20241218T190000
DTEND;TZID=America/New_York:20241218T200000
DTSTAMP:20260423T093900
CREATED:20240923T224643Z
LAST-MODIFIED:20240925T234912Z
UID:2559-1734548400-1734552000@bol.church
SUMMARY:Family Night Bible Study: Every Wednesday@ 7PM
DESCRIPTION:Each Wednesday at 7 pm\, we will be studying the 16 Foundational Truths of the Assemblies of God; notes from Pastor Tom’s WordQuest workbook will be provided each week. \nUpcoming topics include the Inspiration of the Word of God; the Unity and Trinity of God; the Deity and Humanity of Jesus; the Fall of Humanity; and Salvation.
URL:https://bol.church/event/family-night-bible-study-every-wednesday-7pm-19/
LOCATION:Bread Of Life Church – Main building\, 110 S State Road\, Upper Darby\, PA\, 19082\, United States
ATTACH;FMTTYPE=image/png:https://bol.church/wp-content/uploads/2024/05/FAMILY-NIGHT-pic.png
END:VEVENT
BEGIN:VEVENT
DTSTART;TZID=America/New_York:20241225T190000
DTEND;TZID=America/New_York:20241225T200000
DTSTAMP:20260423T093900
CREATED:20240923T224647Z
LAST-MODIFIED:20240923T224647Z
UID:2558-1735153200-1735156800@bol.church
SUMMARY:Family Night Bible Study: Every Wednesday @ 7PM
DESCRIPTION:Each Wednesday at 7 pm\, we will be studying the 16 Foundational Truths of the Assemblies of God; notes from Pastor Tom’s WordQuest workbook will be provided each week. \nUpcoming topics include the Inspiration of the Word of God; the Unity and Trinity of God; the Deity and Humanity of Jesus; the Fall of Humanity; and Salvation.
URL:https://bol.church/event/family-night-bible-study-every-wednesday-7pm-20/
LOCATION:Bread Of Life Church – Main building\, 110 S State Road\, Upper Darby\, PA\, 19082\, United States
ATTACH;FMTTYPE=image/png:https://bol.church/wp-content/uploads/2024/05/FAMILY-NIGHT-pic.png
END:VEVENT
BEGIN:VEVENT
DTSTART;TZID=America/New_York:20241227T190000
DTEND;TZID=America/New_York:20241227T200000
DTSTAMP:20260423T093900
CREATED:20240926T005714Z
LAST-MODIFIED:20240926T005714Z
UID:2680-1735326000-1735329600@bol.church
SUMMARY:Weekly Prayer Meeting: Every Friday @ 7PM
DESCRIPTION:The prayer group meets in the annexed conference room of the main sanctuary every Friday (except for Flame Services) \nAt 7 PM. Please join us! There is no problem too big for Jesus to handle when his saints gather together to pray. We welcome everyone! \nMatthew 18:19-20 Kjv: \n Again\, I say unto you that if two of you agree on earth to touch anything that they ask\, it shall be done for them of my Father\, who is in heaven. \n [20] For where two or three are gathered together in my name\, there am I in the midst of them.
URL:https://bol.church/event/weekly-prayer-meeting-every-friday-7pm-33/
LOCATION:PA
ATTACH;FMTTYPE=image/jpeg:https://bol.church/wp-content/uploads/2024/09/qtq80-28Xe51.jpeg
END:VEVENT
BEGIN:VEVENT
DTSTART;TZID=America/New_York:20241231T220000
DTEND;TZID=America/New_York:20241231T235900
DTSTAMP:20260423T093900
CREATED:20240926T025746Z
LAST-MODIFIED:20240926T030911Z
UID:2829-1735682400-1735689540@bol.church
SUMMARY:New Year's Eve/Watchnight Service
DESCRIPTION:What a way to end 2024! Let’s gather together during this time as we roll out into 2025\, praising and worshiping our Lord Jesus.
URL:https://bol.church/event/christmas-eve-service/
LOCATION:Bread Of Life Church – Main building\, 110 S State Road\, Upper Darby\, PA\, 19082\, United States
ATTACH;FMTTYPE=image/jpeg:https://bol.church/wp-content/uploads/2024/09/New-Yeareve-service.jpg
END:VEVENT
BEGIN:VEVENT
DTSTART;TZID=America/New_York:20250101T190000
DTEND;TZID=America/New_York:20250101T200000
DTSTAMP:20260423T093900
CREATED:20240923T224650Z
LAST-MODIFIED:20240923T224650Z
UID:2557-1735758000-1735761600@bol.church
SUMMARY:Family Night Bible Study: Every Wednesday @ 7PM
DESCRIPTION:Each Wednesday at 7 pm\, we will be studying the 16 Foundational Truths of the Assemblies of God; notes from Pastor Tom’s WordQuest workbook will be provided each week. \nUpcoming topics include the Inspiration of the Word of God; the Unity and Trinity of God; the Deity and Humanity of Jesus; the Fall of Humanity; and Salvation.
URL:https://bol.church/event/family-night-bible-study-every-wednesday-7pm-21/
LOCATION:Bread Of Life Church – Main building\, 110 S State Road\, Upper Darby\, PA\, 19082\, United States
ATTACH;FMTTYPE=image/png:https://bol.church/wp-content/uploads/2024/05/FAMILY-NIGHT-pic.png
END:VEVENT
BEGIN:VEVENT
DTSTART;TZID=America/New_York:20250103T190000
DTEND;TZID=America/New_York:20250103T200000
DTSTAMP:20260423T093900
CREATED:20240926T005712Z
LAST-MODIFIED:20240926T005712Z
UID:2679-1735930800-1735934400@bol.church
SUMMARY:Weekly Prayer Meeting: Every Friday @ 7PM
DESCRIPTION:The prayer group meets in the annexed conference room of the main sanctuary every Friday (except for Flame Services) \nAt 7 PM. Please join us! There is no problem too big for Jesus to handle when his saints gather together to pray. We welcome everyone! \nMatthew 18:19-20 Kjv: \n Again\, I say unto you that if two of you agree on earth to touch anything that they ask\, it shall be done for them of my Father\, who is in heaven. \n [20] For where two or three are gathered together in my name\, there am I in the midst of them.
URL:https://bol.church/event/weekly-prayer-meeting-every-friday-7pm-32/
LOCATION:PA
ATTACH;FMTTYPE=image/jpeg:https://bol.church/wp-content/uploads/2024/09/qtq80-28Xe51.jpeg
END:VEVENT
BEGIN:VEVENT
DTSTART;TZID=America/New_York:20250104T090000
DTEND;TZID=America/New_York:20250104T120000
DTSTAMP:20260423T093900
CREATED:20240926T012636Z
LAST-MODIFIED:20250206T182529Z
UID:2768-1735981200-1735992000@bol.church
SUMMARY:Evangelism- First Saturday of every month
DESCRIPTION:Every First Saturday of each month\, we gather together as a church for outreach/evangelism. Please do not hesitate to contact us if you\,  or someone you know has a need. \n 
URL:https://bol.church/event/evangelism-first-saturday-of-every-month-11/
LOCATION:Bread Of Life Church – Main building\, 110 S State Road\, Upper Darby\, PA\, 19082\, United States
CATEGORIES:Missions
ATTACH;FMTTYPE=image/jpeg:https://bol.church/wp-content/uploads/2022/09/evangelism-69thstreet.jpg
END:VEVENT
BEGIN:VEVENT
DTSTART;TZID=America/New_York:20250108T190000
DTEND;TZID=America/New_York:20250108T200000
DTSTAMP:20260423T093900
CREATED:20250117T132627Z
LAST-MODIFIED:20250117T132627Z
UID:3000-1736362800-1736366400@bol.church
SUMMARY:Family Night Bible Study: Every Wednesday @ 7PM
DESCRIPTION:Each Wednesday at 7 pm\, we have our family night bible studies. There are classes for every age \nExciting: We are also starting our Young Adult class this Wednesday emphasizing prayer.  \nFor more details on what to expect from these classes and the topics being covered\, please contact the church at: 610 449 1251 or via our Facebook Page at BOL Church
URL:https://bol.church/event/family-night-bible-study-every-wednesday-7pm-9/
LOCATION:Bread Of Life Church – Main building\, 110 S State Road\, Upper Darby\, PA\, 19082\, United States
ATTACH;FMTTYPE=image/png:https://bol.church/wp-content/uploads/2024/05/FAMILY-NIGHT-pic.png
END:VEVENT
END:VCALENDAR