BEGIN:VCALENDAR
VERSION:2.0
PRODID:-// - ECPv6.15.20//NONSGML v1.0//EN
CALSCALE:GREGORIAN
METHOD:PUBLISH
X-ORIGINAL-URL:https://bol.church
X-WR-CALDESC:Events for 
REFRESH-INTERVAL;VALUE=DURATION:PT1H
X-Robots-Tag:noindex
X-PUBLISHED-TTL:PT1H
BEGIN:VTIMEZONE
TZID:America/New_York
BEGIN:DAYLIGHT
TZOFFSETFROM:-0500
TZOFFSETTO:-0400
TZNAME:EDT
DTSTART:20230312T070000
END:DAYLIGHT
BEGIN:STANDARD
TZOFFSETFROM:-0400
TZOFFSETTO:-0500
TZNAME:EST
DTSTART:20231105T060000
END:STANDARD
BEGIN:DAYLIGHT
TZOFFSETFROM:-0500
TZOFFSETTO:-0400
TZNAME:EDT
DTSTART:20240310T070000
END:DAYLIGHT
BEGIN:STANDARD
TZOFFSETFROM:-0400
TZOFFSETTO:-0500
TZNAME:EST
DTSTART:20241103T060000
END:STANDARD
BEGIN:DAYLIGHT
TZOFFSETFROM:-0500
TZOFFSETTO:-0400
TZNAME:EDT
DTSTART:20250309T070000
END:DAYLIGHT
BEGIN:STANDARD
TZOFFSETFROM:-0400
TZOFFSETTO:-0500
TZNAME:EST
DTSTART:20251102T060000
END:STANDARD
END:VTIMEZONE
BEGIN:VEVENT
DTSTART;TZID=America/New_York:20241217T190000
DTEND;TZID=America/New_York:20241217T203000
DTSTAMP:20260420T015950
CREATED:20240926T020507Z
LAST-MODIFIED:20240926T020643Z
UID:2787-1734462000-1734467400@bol.church
SUMMARY:Women's Gathering: Third Tuesday of every month at 7PM.
DESCRIPTION:Women meet for a fellowship gathering at 7 PM  every third Tuesday\, monthly. All are welcome! \n 
URL:https://bol.church/event/womens-gathering-third-tuesday-of-every-month-at-7pm-8/
LOCATION:Bread Of Life Church – Main building\, 110 S State Road\, Upper Darby\, PA\, 19082\, United States
CATEGORIES:Women-Events
ATTACH;FMTTYPE=image/jpeg:https://bol.church/wp-content/uploads/2022/12/church-front-lawn.jpg
END:VEVENT
BEGIN:VEVENT
DTSTART;TZID=America/New_York:20241119T190000
DTEND;TZID=America/New_York:20241119T203000
DTSTAMP:20260420T015950
CREATED:20231012T225349Z
LAST-MODIFIED:20240926T020621Z
UID:1914-1732042800-1732048200@bol.church
SUMMARY:Women's Gathering: Third Tuesdays of every month at 7PM.
DESCRIPTION:Women meet for a fellowship gathering at 7 PM  every third Tuesday\, monthly. All are welcome! \n 
URL:https://bol.church/event/womens-ministry/
LOCATION:Bread Of Life Church – Main building\, 110 S State Road\, Upper Darby\, PA\, 19082\, United States
CATEGORIES:Women-Events
ATTACH;FMTTYPE=image/jpeg:https://bol.church/wp-content/uploads/2022/12/church-front-lawn.jpg
END:VEVENT
BEGIN:VEVENT
DTSTART;TZID=America/New_York:20241015T190000
DTEND;TZID=America/New_York:20241015T203000
DTSTAMP:20260420T015950
CREATED:20240926T020450Z
LAST-MODIFIED:20240926T020450Z
UID:2781-1729018800-1729024200@bol.church
SUMMARY:Women's Gathering: Third Tuesday of every month at 7PM.
DESCRIPTION:Women meet for a fellowship gathering at 7 PM  every third Tuesday\, monthly. All are welcome! \n 
URL:https://bol.church/event/womens-gathering-third-tuesday-of-every-month-at-7pm/
LOCATION:Bread Of Life Church – Main building\, 110 S State Road\, Upper Darby\, PA\, 19082\, United States
CATEGORIES:Women-Events
ATTACH;FMTTYPE=image/jpeg:https://bol.church/wp-content/uploads/2022/12/church-front-lawn.jpg
END:VEVENT
BEGIN:VEVENT
DTSTART;TZID=America/New_York:20240917T190000
DTEND;TZID=America/New_York:20240917T203000
DTSTAMP:20260420T015950
CREATED:20240926T020452Z
LAST-MODIFIED:20240926T020452Z
UID:2780-1726599600-1726605000@bol.church
SUMMARY:Women's Gathering: Third Tuesday of every month at 7PM.
DESCRIPTION:Women meet for a fellowship gathering at 7 PM  every third Tuesday\, monthly. All are welcome! \n 
URL:https://bol.church/event/womens-gathering-third-tuesday-of-every-month-at-7pm-2/
LOCATION:Bread Of Life Church – Main building\, 110 S State Road\, Upper Darby\, PA\, 19082\, United States
CATEGORIES:Women-Events
ATTACH;FMTTYPE=image/jpeg:https://bol.church/wp-content/uploads/2022/12/church-front-lawn.jpg
END:VEVENT
BEGIN:VEVENT
DTSTART;TZID=America/New_York:20240820T190000
DTEND;TZID=America/New_York:20240820T203000
DTSTAMP:20260420T015950
CREATED:20240926T020455Z
LAST-MODIFIED:20240926T020455Z
UID:2784-1724180400-1724185800@bol.church
SUMMARY:Women's Gathering: Third Tuesday of every month at 7PM.
DESCRIPTION:Women meet for a fellowship gathering at 7 PM  every third Tuesday\, monthly. All are welcome! \n 
URL:https://bol.church/event/womens-gathering-third-tuesday-of-every-month-at-7pm-3/
LOCATION:Bread Of Life Church – Main building\, 110 S State Road\, Upper Darby\, PA\, 19082\, United States
CATEGORIES:Women-Events
ATTACH;FMTTYPE=image/jpeg:https://bol.church/wp-content/uploads/2022/12/church-front-lawn.jpg
END:VEVENT
BEGIN:VEVENT
DTSTART;TZID=America/New_York:20240716T190000
DTEND;TZID=America/New_York:20240716T203000
DTSTAMP:20260420T015950
CREATED:20240926T020457Z
LAST-MODIFIED:20240926T020457Z
UID:2783-1721156400-1721161800@bol.church
SUMMARY:Women's Gathering: Third Tuesday of every month at 7PM.
DESCRIPTION:Women meet for a fellowship gathering at 7 PM  every third Tuesday\, monthly. All are welcome! \n 
URL:https://bol.church/event/womens-gathering-third-tuesday-of-every-month-at-7pm-4/
LOCATION:Bread Of Life Church – Main building\, 110 S State Road\, Upper Darby\, PA\, 19082\, United States
CATEGORIES:Women-Events
ATTACH;FMTTYPE=image/jpeg:https://bol.church/wp-content/uploads/2022/12/church-front-lawn.jpg
END:VEVENT
BEGIN:VEVENT
DTSTART;TZID=America/New_York:20240618T190000
DTEND;TZID=America/New_York:20240618T203000
DTSTAMP:20260420T015950
CREATED:20240926T020459Z
LAST-MODIFIED:20240926T020459Z
UID:2782-1718737200-1718742600@bol.church
SUMMARY:Women's Gathering: Third Tuesday of every month at 7PM.
DESCRIPTION:Women meet for a fellowship gathering at 7 PM  every third Tuesday\, monthly. All are welcome! \n 
URL:https://bol.church/event/womens-gathering-third-tuesday-of-every-month-at-7pm-5/
LOCATION:Bread Of Life Church – Main building\, 110 S State Road\, Upper Darby\, PA\, 19082\, United States
CATEGORIES:Women-Events
ATTACH;FMTTYPE=image/jpeg:https://bol.church/wp-content/uploads/2022/12/church-front-lawn.jpg
END:VEVENT
BEGIN:VEVENT
DTSTART;TZID=America/New_York:20240521T190000
DTEND;TZID=America/New_York:20240521T203000
DTSTAMP:20260420T015950
CREATED:20240926T020502Z
LAST-MODIFIED:20240926T020502Z
UID:2789-1716318000-1716323400@bol.church
SUMMARY:Women's Gathering: Third Tuesday of every month at 7PM.
DESCRIPTION:Women meet for a fellowship gathering at 7 PM  every third Tuesday\, monthly. All are welcome! \n 
URL:https://bol.church/event/womens-gathering-third-tuesday-of-every-month-at-7pm-6/
LOCATION:Bread Of Life Church – Main building\, 110 S State Road\, Upper Darby\, PA\, 19082\, United States
CATEGORIES:Women-Events
ATTACH;FMTTYPE=image/jpeg:https://bol.church/wp-content/uploads/2022/12/church-front-lawn.jpg
END:VEVENT
BEGIN:VEVENT
DTSTART;TZID=America/New_York:20240416T190000
DTEND;TZID=America/New_York:20240416T203000
DTSTAMP:20260420T015950
CREATED:20240926T020504Z
LAST-MODIFIED:20240926T020504Z
UID:2788-1713294000-1713299400@bol.church
SUMMARY:Women's Gathering: Third Tuesday of every month at 7PM.
DESCRIPTION:Women meet for a fellowship gathering at 7 PM  every third Tuesday\, monthly. All are welcome! \n 
URL:https://bol.church/event/womens-gathering-third-tuesday-of-every-month-at-7pm-7/
LOCATION:Bread Of Life Church – Main building\, 110 S State Road\, Upper Darby\, PA\, 19082\, United States
CATEGORIES:Women-Events
ATTACH;FMTTYPE=image/jpeg:https://bol.church/wp-content/uploads/2022/12/church-front-lawn.jpg
END:VEVENT
BEGIN:VEVENT
DTSTART;TZID=America/New_York:20240319T190000
DTEND;TZID=America/New_York:20240319T203000
DTSTAMP:20260420T015950
CREATED:20240926T020510Z
LAST-MODIFIED:20240926T020510Z
UID:2786-1710874800-1710880200@bol.church
SUMMARY:Women's Gathering: Third Tuesday of every month at 7PM.
DESCRIPTION:Women meet for a fellowship gathering at 7 PM  every third Tuesday\, monthly. All are welcome! \n 
URL:https://bol.church/event/womens-gathering-third-tuesday-of-every-month-at-7pm-9/
LOCATION:Bread Of Life Church – Main building\, 110 S State Road\, Upper Darby\, PA\, 19082\, United States
CATEGORIES:Women-Events
ATTACH;FMTTYPE=image/jpeg:https://bol.church/wp-content/uploads/2022/12/church-front-lawn.jpg
END:VEVENT
BEGIN:VEVENT
DTSTART;TZID=America/New_York:20240220T190000
DTEND;TZID=America/New_York:20240220T203000
DTSTAMP:20260420T015950
CREATED:20240926T020515Z
LAST-MODIFIED:20240926T020515Z
UID:2790-1708455600-1708461000@bol.church
SUMMARY:Women's Gathering: Third Tuesday of every month at 7PM.
DESCRIPTION:Women meet for a fellowship gathering at 7 PM  every third Tuesday\, monthly. All are welcome! \n 
URL:https://bol.church/event/womens-gathering-third-tuesday-of-every-month-at-7pm-11/
LOCATION:Bread Of Life Church – Main building\, 110 S State Road\, Upper Darby\, PA\, 19082\, United States
CATEGORIES:Women-Events
ATTACH;FMTTYPE=image/jpeg:https://bol.church/wp-content/uploads/2022/12/church-front-lawn.jpg
END:VEVENT
END:VCALENDAR