BEGIN:VCALENDAR
VERSION:2.0
PRODID:-// - ECPv6.15.20//NONSGML v1.0//EN
CALSCALE:GREGORIAN
METHOD:PUBLISH
X-ORIGINAL-URL:https://bol.church
X-WR-CALDESC:Events for 
REFRESH-INTERVAL;VALUE=DURATION:PT1H
X-Robots-Tag:noindex
X-PUBLISHED-TTL:PT1H
BEGIN:VTIMEZONE
TZID:America/New_York
BEGIN:DAYLIGHT
TZOFFSETFROM:-0500
TZOFFSETTO:-0400
TZNAME:EDT
DTSTART:20230312T070000
END:DAYLIGHT
BEGIN:STANDARD
TZOFFSETFROM:-0400
TZOFFSETTO:-0500
TZNAME:EST
DTSTART:20231105T060000
END:STANDARD
BEGIN:DAYLIGHT
TZOFFSETFROM:-0500
TZOFFSETTO:-0400
TZNAME:EDT
DTSTART:20240310T070000
END:DAYLIGHT
BEGIN:STANDARD
TZOFFSETFROM:-0400
TZOFFSETTO:-0500
TZNAME:EST
DTSTART:20241103T060000
END:STANDARD
BEGIN:DAYLIGHT
TZOFFSETFROM:-0500
TZOFFSETTO:-0400
TZNAME:EDT
DTSTART:20250309T070000
END:DAYLIGHT
BEGIN:STANDARD
TZOFFSETFROM:-0400
TZOFFSETTO:-0500
TZNAME:EST
DTSTART:20251102T060000
END:STANDARD
BEGIN:DAYLIGHT
TZOFFSETFROM:-0500
TZOFFSETTO:-0400
TZNAME:EDT
DTSTART:20260308T070000
END:DAYLIGHT
BEGIN:STANDARD
TZOFFSETFROM:-0400
TZOFFSETTO:-0500
TZNAME:EST
DTSTART:20261101T060000
END:STANDARD
END:VTIMEZONE
BEGIN:VEVENT
DTSTART;TZID=America/New_York:20251215T190000
DTEND;TZID=America/New_York:20251215T200000
DTSTAMP:20260419T164554
CREATED:20250210T125234Z
LAST-MODIFIED:20250210T125234Z
UID:3298-1765825200-1765828800@bol.church
SUMMARY:Hoving Home Ministry: Missions Service
DESCRIPTION:There will be a missions service for the Hoving Home Ministry during this time.
URL:https://bol.church/event/hoving-home-ministry-missions-service/
LOCATION:Bread Of Life Church – Main building\, 110 S State Road\, Upper Darby\, PA\, 19082\, United States
CATEGORIES:Missions
END:VEVENT
BEGIN:VEVENT
DTSTART;TZID=America/New_York:20251206T090000
DTEND;TZID=America/New_York:20251206T120000
DTSTAMP:20260419T164554
CREATED:20250206T182316Z
LAST-MODIFIED:20250206T182316Z
UID:3221-1765011600-1765022400@bol.church
SUMMARY:Evangelism- First Saturday of every month
DESCRIPTION:Every First Saturday of each month\, we gather together as a church for outreach/evangelism. Please do not hesitate to contact us if you\,  or someone you know has a need. \n 
URL:https://bol.church/event/evangelism-first-saturday-of-every-month-22/
LOCATION:Bread Of Life Church – Main building\, 110 S State Road\, Upper Darby\, PA\, 19082\, United States
CATEGORIES:Missions
ATTACH;FMTTYPE=image/jpeg:https://bol.church/wp-content/uploads/2022/09/evangelism-69thstreet.jpg
END:VEVENT
BEGIN:VEVENT
DTSTART;TZID=America/New_York:20251101T090000
DTEND;TZID=America/New_York:20251101T120000
DTSTAMP:20260419T164554
CREATED:20250206T182256Z
LAST-MODIFIED:20250206T182256Z
UID:3222-1761987600-1761998400@bol.church
SUMMARY:Evangelism- First Saturday of every month
DESCRIPTION:Every First Saturday of each month\, we gather together as a church for outreach/evangelism. Please do not hesitate to contact us if you\,  or someone you know has a need. \n 
URL:https://bol.church/event/evangelism-first-saturday-of-every-month-21/
LOCATION:Bread Of Life Church – Main building\, 110 S State Road\, Upper Darby\, PA\, 19082\, United States
CATEGORIES:Missions
ATTACH;FMTTYPE=image/jpeg:https://bol.church/wp-content/uploads/2022/09/evangelism-69thstreet.jpg
END:VEVENT
BEGIN:VEVENT
DTSTART;TZID=America/New_York:20251004T090000
DTEND;TZID=America/New_York:20251004T120000
DTSTAMP:20260419T164554
CREATED:20250206T182230Z
LAST-MODIFIED:20250206T182230Z
UID:3223-1759568400-1759579200@bol.church
SUMMARY:Evangelism- First Saturday of every month
DESCRIPTION:Every First Saturday of each month\, we gather together as a church for outreach/evangelism. Please do not hesitate to contact us if you\,  or someone you know has a need. \n 
URL:https://bol.church/event/evangelism-first-saturday-of-every-month-20/
LOCATION:Bread Of Life Church – Main building\, 110 S State Road\, Upper Darby\, PA\, 19082\, United States
CATEGORIES:Missions
ATTACH;FMTTYPE=image/jpeg:https://bol.church/wp-content/uploads/2022/09/evangelism-69thstreet.jpg
END:VEVENT
BEGIN:VEVENT
DTSTART;TZID=America/New_York:20250906T090000
DTEND;TZID=America/New_York:20250906T120000
DTSTAMP:20260419T164554
CREATED:20250206T182213Z
LAST-MODIFIED:20250206T182213Z
UID:3224-1757149200-1757160000@bol.church
SUMMARY:Evangelism- First Saturday of every month
DESCRIPTION:Every First Saturday of each month\, we gather together as a church for outreach/evangelism. Please do not hesitate to contact us if you\,  or someone you know has a need. \n 
URL:https://bol.church/event/evangelism-first-saturday-of-every-month-19/
LOCATION:Bread Of Life Church – Main building\, 110 S State Road\, Upper Darby\, PA\, 19082\, United States
CATEGORIES:Missions
ATTACH;FMTTYPE=image/jpeg:https://bol.church/wp-content/uploads/2022/09/evangelism-69thstreet.jpg
END:VEVENT
BEGIN:VEVENT
DTSTART;TZID=America/New_York:20250705T090000
DTEND;TZID=America/New_York:20250705T120000
DTSTAMP:20260419T164554
CREATED:20250206T182126Z
LAST-MODIFIED:20250206T182126Z
UID:3226-1751706000-1751716800@bol.church
SUMMARY:Evangelism- First Saturday of every month
DESCRIPTION:Every First Saturday of each month\, we gather together as a church for outreach/evangelism. Please do not hesitate to contact us if you\,  or someone you know has a need. \n 
URL:https://bol.church/event/evangelism-first-saturday-of-every-month-17/
LOCATION:Bread Of Life Church – Main building\, 110 S State Road\, Upper Darby\, PA\, 19082\, United States
CATEGORIES:Missions
ATTACH;FMTTYPE=image/jpeg:https://bol.church/wp-content/uploads/2022/09/evangelism-69thstreet.jpg
END:VEVENT
BEGIN:VEVENT
DTSTART;TZID=America/New_York:20250620T183000
DTEND;TZID=America/New_York:20250620T203000
DTSTAMP:20260419T164554
CREATED:20250501T131444Z
LAST-MODIFIED:20250501T131444Z
UID:3354-1750444200-1750451400@bol.church
SUMMARY:Newcomers Fellowship BBQ
DESCRIPTION:A newcomers’ Fellowship Dinner will be at the Church on Friday\, June 20\, beginning at 6:30 PM. \nPlease invite someone along.
URL:https://bol.church/event/newcomers-fellowship-bbq/
LOCATION:Bread Of Life Church – Main building\, 110 S State Road\, Upper Darby\, PA\, 19082\, United States
CATEGORIES:Missions
ATTACH;FMTTYPE=image/jpeg:https://bol.church/wp-content/uploads/2025/04/qtq80-o2qYNp.jpeg
END:VEVENT
BEGIN:VEVENT
DTSTART;TZID=America/New_York:20250607T090000
DTEND;TZID=America/New_York:20250607T120000
DTSTAMP:20260419T164554
CREATED:20250206T182107Z
LAST-MODIFIED:20250206T182107Z
UID:3227-1749286800-1749297600@bol.church
SUMMARY:Evangelism- First Saturday of every month
DESCRIPTION:Every First Saturday of each month\, we gather together as a church for outreach/evangelism. Please do not hesitate to contact us if you\,  or someone you know has a need. \n 
URL:https://bol.church/event/evangelism-first-saturday-of-every-month-16/
LOCATION:Bread Of Life Church – Main building\, 110 S State Road\, Upper Darby\, PA\, 19082\, United States
CATEGORIES:Missions
ATTACH;FMTTYPE=image/jpeg:https://bol.church/wp-content/uploads/2022/09/evangelism-69thstreet.jpg
END:VEVENT
BEGIN:VEVENT
DTSTART;TZID=America/New_York:20250517T080000
DTEND;TZID=America/New_York:20250517T120000
DTSTAMP:20260419T164554
CREATED:20250501T130921Z
LAST-MODIFIED:20250501T130921Z
UID:3349-1747468800-1747483200@bol.church
SUMMARY:Spring Cleaning Day
DESCRIPTION:Please join us on Saturday\, May 17  8:00 AM for Spring Cleanup.
URL:https://bol.church/event/spring-cleaning-day/
LOCATION:Bread Of Life Church – Main building\, 110 S State Road\, Upper Darby\, PA\, 19082\, United States
CATEGORIES:Missions
ATTACH;FMTTYPE=image/jpeg:https://bol.church/wp-content/uploads/2025/05/Spring-Cleaning-Day.jpg
END:VEVENT
BEGIN:VEVENT
DTSTART;TZID=America/New_York:20250503T090000
DTEND;TZID=America/New_York:20250503T120000
DTSTAMP:20260419T164554
CREATED:20250206T182048Z
LAST-MODIFIED:20250206T182048Z
UID:3228-1746262800-1746273600@bol.church
SUMMARY:Evangelism- First Saturday of every month
DESCRIPTION:Every First Saturday of each month\, we gather together as a church for outreach/evangelism. Please do not hesitate to contact us if you\,  or someone you know has a need. \n 
URL:https://bol.church/event/evangelism-first-saturday-of-every-month-15/
LOCATION:Bread Of Life Church – Main building\, 110 S State Road\, Upper Darby\, PA\, 19082\, United States
CATEGORIES:Missions
ATTACH;FMTTYPE=image/jpeg:https://bol.church/wp-content/uploads/2022/09/evangelism-69thstreet.jpg
END:VEVENT
BEGIN:VEVENT
DTSTART;TZID=America/New_York:20250420T101500
DTEND;TZID=America/New_York:20250420T130000
DTSTAMP:20260419T164554
CREATED:20250117T125946Z
LAST-MODIFIED:20250117T125946Z
UID:2966-1745144100-1745154000@bol.church
SUMMARY:Missions Sunday & Kingdom Builders
DESCRIPTION:The third Sunday of every month is dedicated to supporting missionaries. \n 
URL:https://bol.church/event/missions-sunday-kingdom-builders-16/
LOCATION:Bread Of Life Church – Main building\, 110 S State Road\, Upper Darby\, PA\, 19082\, United States
CATEGORIES:Missions
ATTACH;FMTTYPE=image/jpeg:https://bol.church/wp-content/uploads/2025/01/sis-charles-e1737118359537.jpg
END:VEVENT
BEGIN:VEVENT
DTSTART;TZID=America/New_York:20250413T101500
DTEND;TZID=America/New_York:20250413T120000
DTSTAMP:20260419T164554
CREATED:20250430T002250Z
LAST-MODIFIED:20250430T002250Z
UID:3336-1744539300-1744545600@bol.church
SUMMARY:Palm Sunday Service
DESCRIPTION:Join us for our PALM SUNDAY SERVICE \nat Bread of Life AG \n\nBread of Life AG
URL:https://bol.church/event/palm-sunday-service-2/
LOCATION:Bread Of Life Church – Main building\, 110 S State Road\, Upper Darby\, PA\, 19082\, United States
CATEGORIES:Missions
ATTACH;FMTTYPE=image/png:https://bol.church/wp-content/uploads/2025/04/palm-sunday-2025.png
END:VEVENT
BEGIN:VEVENT
DTSTART;TZID=America/New_York:20250405T090000
DTEND;TZID=America/New_York:20250405T120000
DTSTAMP:20260419T164554
CREATED:20250206T182026Z
LAST-MODIFIED:20250206T182026Z
UID:3229-1743843600-1743854400@bol.church
SUMMARY:Evangelism- First Saturday of every month
DESCRIPTION:Every First Saturday of each month\, we gather together as a church for outreach/evangelism. Please do not hesitate to contact us if you\,  or someone you know has a need. \n 
URL:https://bol.church/event/evangelism-first-saturday-of-every-month-14/
LOCATION:Bread Of Life Church – Main building\, 110 S State Road\, Upper Darby\, PA\, 19082\, United States
CATEGORIES:Missions
ATTACH;FMTTYPE=image/jpeg:https://bol.church/wp-content/uploads/2022/09/evangelism-69thstreet.jpg
END:VEVENT
BEGIN:VEVENT
DTSTART;TZID=America/New_York:20250328T183000
DTEND;TZID=America/New_York:20250328T203000
DTSTAMP:20260419T164554
CREATED:20250430T001310Z
LAST-MODIFIED:20250430T001310Z
UID:3333-1743186600-1743193800@bol.church
SUMMARY:Newcomers Fellowship Dinner
DESCRIPTION:A newcomers’ Fellowship Dinner will be at the Church on Friday\, March 28\, beginning at 6:30 PM. \nPlease invite someone along.
URL:https://bol.church/event/newcomers-fellowship-dinner/
LOCATION:Bread Of Life Church – Main building\, 110 S State Road\, Upper Darby\, PA\, 19082\, United States
CATEGORIES:Missions
ATTACH;FMTTYPE=image/jpeg:https://bol.church/wp-content/uploads/2025/04/qtq80-o2qYNp.jpeg
END:VEVENT
BEGIN:VEVENT
DTSTART;TZID=America/New_York:20250323T101400
DTEND;TZID=America/New_York:20250323T120000
DTSTAMP:20260419T164554
CREATED:20250430T000253Z
LAST-MODIFIED:20250430T000253Z
UID:3331-1742724840-1742731200@bol.church
SUMMARY:Water Baptism Sunday
DESCRIPTION:See Pastor Thomas Keinath for more details.
URL:https://bol.church/event/water-baptism-sunday/
LOCATION:Bread Of Life Church – Main building\, 110 S State Road\, Upper Darby\, PA\, 19082\, United States
CATEGORIES:Missions
ATTACH;FMTTYPE=image/jpeg:https://bol.church/wp-content/uploads/2025/02/qtq80-WZExpy.jpeg
END:VEVENT
BEGIN:VEVENT
DTSTART;TZID=America/New_York:20250301T090000
DTEND;TZID=America/New_York:20250301T120000
DTSTAMP:20260419T164554
CREATED:20250206T182006Z
LAST-MODIFIED:20250206T182006Z
UID:3230-1740819600-1740830400@bol.church
SUMMARY:Evangelism- First Saturday of every month
DESCRIPTION:Every First Saturday of each month\, we gather together as a church for outreach/evangelism. Please do not hesitate to contact us if you\,  or someone you know has a need. \n 
URL:https://bol.church/event/evangelism-first-saturday-of-every-month-13/
LOCATION:Bread Of Life Church – Main building\, 110 S State Road\, Upper Darby\, PA\, 19082\, United States
CATEGORIES:Missions
ATTACH;FMTTYPE=image/jpeg:https://bol.church/wp-content/uploads/2022/09/evangelism-69thstreet.jpg
END:VEVENT
BEGIN:VEVENT
DTSTART;TZID=America/New_York:20250201T090000
DTEND;TZID=America/New_York:20250201T120000
DTSTAMP:20260419T164554
CREATED:20250206T181946Z
LAST-MODIFIED:20250206T181946Z
UID:3231-1738400400-1738411200@bol.church
SUMMARY:Evangelism- First Saturday of every month
DESCRIPTION:Every First Saturday of each month\, we gather together as a church for outreach/evangelism. Please do not hesitate to contact us if you\,  or someone you know has a need. \n 
URL:https://bol.church/event/evangelism-first-saturday-of-every-month-12/
LOCATION:Bread Of Life Church – Main building\, 110 S State Road\, Upper Darby\, PA\, 19082\, United States
CATEGORIES:Missions
ATTACH;FMTTYPE=image/jpeg:https://bol.church/wp-content/uploads/2022/09/evangelism-69thstreet.jpg
END:VEVENT
BEGIN:VEVENT
DTSTART;TZID=America/New_York:20250104T090000
DTEND;TZID=America/New_York:20250104T120000
DTSTAMP:20260419T164554
CREATED:20240926T012636Z
LAST-MODIFIED:20250206T182529Z
UID:2768-1735981200-1735992000@bol.church
SUMMARY:Evangelism- First Saturday of every month
DESCRIPTION:Every First Saturday of each month\, we gather together as a church for outreach/evangelism. Please do not hesitate to contact us if you\,  or someone you know has a need. \n 
URL:https://bol.church/event/evangelism-first-saturday-of-every-month-11/
LOCATION:Bread Of Life Church – Main building\, 110 S State Road\, Upper Darby\, PA\, 19082\, United States
CATEGORIES:Missions
ATTACH;FMTTYPE=image/jpeg:https://bol.church/wp-content/uploads/2022/09/evangelism-69thstreet.jpg
END:VEVENT
BEGIN:VEVENT
DTSTART;TZID=America/New_York:20241102T090000
DTEND;TZID=America/New_York:20241102T120000
DTSTAMP:20260419T164554
CREATED:20240926T012437Z
LAST-MODIFIED:20240926T012437Z
UID:2750-1730538000-1730548800@bol.church
SUMMARY:Evangelism- First Saturday of every month
DESCRIPTION:Every First Saturday of each month\, we gather together as a church for outreach/evangelism. Please do not hesitate to contact us if you\,  or someone you know has a need. \n 
URL:https://bol.church/event/evangelism-first-saturday-of-every-month/
LOCATION:Bread Of Life Church – Main building\, 110 S State Road\, Upper Darby\, PA\, 19082\, United States
CATEGORIES:Missions
ATTACH;FMTTYPE=image/jpeg:https://bol.church/wp-content/uploads/2022/09/evangelism-69thstreet.jpg
END:VEVENT
BEGIN:VEVENT
DTSTART;VALUE=DATE:20241027
DTEND;VALUE=DATE:20241028
DTSTAMP:20260419T164554
CREATED:20240926T023613Z
LAST-MODIFIED:20240926T023613Z
UID:2816-1729987200-1730073599@bol.church
SUMMARY:Family Matters Sunday (With UVF Team)
DESCRIPTION:Please be sure to invite someone along. We look forward to fellowshiping with our church families! \nTBD on time specifics.
URL:https://bol.church/event/family-matters-sunday-with-uvf-team/
LOCATION:PA
CATEGORIES:Missions
ATTACH;FMTTYPE=image/jpeg:https://bol.church/wp-content/uploads/2024/09/family-Friends-Sunday.jpg
END:VEVENT
BEGIN:VEVENT
DTSTART;TZID=America/New_York:20241026T080000
DTEND;TZID=America/New_York:20241026T170000
DTSTAMP:20260419T164554
CREATED:20240926T023123Z
LAST-MODIFIED:20240926T023123Z
UID:2813-1729929600-1729962000@bol.church
SUMMARY:Fall Cleaning Day
DESCRIPTION:Please join us on Saturday\, October 26 at 8:00 AM for Fall Cleanup.
URL:https://bol.church/event/fall-cleaning-day/
LOCATION:PA
CATEGORIES:Missions
ATTACH;FMTTYPE=image/jpeg:https://bol.church/wp-content/uploads/2024/09/Fall-Cleanup.jpg
END:VEVENT
BEGIN:VEVENT
DTSTART;VALUE=DATE:20241019
DTEND;VALUE=DATE:20241020
DTSTAMP:20260419T164554
CREATED:20240926T021735Z
LAST-MODIFIED:20240926T021735Z
UID:2804-1729296000-1729382399@bol.church
SUMMARY:Sight & Sound Theater: Church's Group Event
DESCRIPTION:Daniel’s Live Performance at Sight & Sound in Lancaster PA. \nSee Sister Nancy Twyman for details.
URL:https://bol.church/event/sight-sound-theater-churchs-group-event/
LOCATION:PA
CATEGORIES:Missions
ATTACH;FMTTYPE=image/jpeg:https://bol.church/wp-content/uploads/2024/09/qtq80-fnRTnF.jpeg
END:VEVENT
BEGIN:VEVENT
DTSTART;TZID=America/New_York:20241005T090000
DTEND;TZID=America/New_York:20241005T120000
DTSTAMP:20260419T164554
CREATED:20240926T012439Z
LAST-MODIFIED:20240926T012439Z
UID:2749-1728118800-1728129600@bol.church
SUMMARY:Evangelism- First Saturday of every month
DESCRIPTION:Every First Saturday of each month\, we gather together as a church for outreach/evangelism. Please do not hesitate to contact us if you\,  or someone you know has a need. \n 
URL:https://bol.church/event/evangelism-first-saturday-of-every-month-2/
LOCATION:Bread Of Life Church – Main building\, 110 S State Road\, Upper Darby\, PA\, 19082\, United States
CATEGORIES:Missions
ATTACH;FMTTYPE=image/jpeg:https://bol.church/wp-content/uploads/2022/09/evangelism-69thstreet.jpg
END:VEVENT
BEGIN:VEVENT
DTSTART;TZID=America/New_York:20240907T090000
DTEND;TZID=America/New_York:20240907T120000
DTSTAMP:20260419T164554
CREATED:20240926T012442Z
LAST-MODIFIED:20240926T012442Z
UID:2748-1725699600-1725710400@bol.church
SUMMARY:Evangelism- First Saturday of every month
DESCRIPTION:Every First Saturday of each month\, we gather together as a church for outreach/evangelism. Please do not hesitate to contact us if you\,  or someone you know has a need. \n 
URL:https://bol.church/event/evangelism-first-saturday-of-every-month-3/
LOCATION:Bread Of Life Church – Main building\, 110 S State Road\, Upper Darby\, PA\, 19082\, United States
CATEGORIES:Missions
ATTACH;FMTTYPE=image/jpeg:https://bol.church/wp-content/uploads/2022/09/evangelism-69thstreet.jpg
END:VEVENT
BEGIN:VEVENT
DTSTART;TZID=America/New_York:20240803T090000
DTEND;TZID=America/New_York:20240803T120000
DTSTAMP:20260419T164554
CREATED:20240926T012445Z
LAST-MODIFIED:20240926T012445Z
UID:2755-1722675600-1722686400@bol.church
SUMMARY:Evangelism- First Saturday of every month
DESCRIPTION:Every First Saturday of each month\, we gather together as a church for outreach/evangelism. Please do not hesitate to contact us if you\,  or someone you know has a need. \n 
URL:https://bol.church/event/evangelism-first-saturday-of-every-month-4/
LOCATION:Bread Of Life Church – Main building\, 110 S State Road\, Upper Darby\, PA\, 19082\, United States
CATEGORIES:Missions
ATTACH;FMTTYPE=image/jpeg:https://bol.church/wp-content/uploads/2022/09/evangelism-69thstreet.jpg
END:VEVENT
BEGIN:VEVENT
DTSTART;TZID=America/New_York:20240706T090000
DTEND;TZID=America/New_York:20240706T120000
DTSTAMP:20260419T164554
CREATED:20240926T012447Z
LAST-MODIFIED:20240926T012447Z
UID:2754-1720256400-1720267200@bol.church
SUMMARY:Evangelism- First Saturday of every month
DESCRIPTION:Every First Saturday of each month\, we gather together as a church for outreach/evangelism. Please do not hesitate to contact us if you\,  or someone you know has a need. \n 
URL:https://bol.church/event/evangelism-first-saturday-of-every-month-5/
LOCATION:Bread Of Life Church – Main building\, 110 S State Road\, Upper Darby\, PA\, 19082\, United States
CATEGORIES:Missions
ATTACH;FMTTYPE=image/jpeg:https://bol.church/wp-content/uploads/2022/09/evangelism-69thstreet.jpg
END:VEVENT
BEGIN:VEVENT
DTSTART;TZID=America/New_York:20240601T090000
DTEND;TZID=America/New_York:20240601T120000
DTSTAMP:20260419T164554
CREATED:20240926T012449Z
LAST-MODIFIED:20240926T012449Z
UID:2753-1717232400-1717243200@bol.church
SUMMARY:Evangelism- First Saturday of every month
DESCRIPTION:Every First Saturday of each month\, we gather together as a church for outreach/evangelism. Please do not hesitate to contact us if you\,  or someone you know has a need. \n 
URL:https://bol.church/event/evangelism-first-saturday-of-every-month-6/
LOCATION:Bread Of Life Church – Main building\, 110 S State Road\, Upper Darby\, PA\, 19082\, United States
CATEGORIES:Missions
ATTACH;FMTTYPE=image/jpeg:https://bol.church/wp-content/uploads/2022/09/evangelism-69thstreet.jpg
END:VEVENT
BEGIN:VEVENT
DTSTART;TZID=America/New_York:20240504T090000
DTEND;TZID=America/New_York:20240504T120000
DTSTAMP:20260419T164554
CREATED:20240926T012451Z
LAST-MODIFIED:20240926T012451Z
UID:2752-1714813200-1714824000@bol.church
SUMMARY:Evangelism- First Saturday of every month
DESCRIPTION:Every First Saturday of each month\, we gather together as a church for outreach/evangelism. Please do not hesitate to contact us if you\,  or someone you know has a need. \n 
URL:https://bol.church/event/evangelism-first-saturday-of-every-month-7/
LOCATION:Bread Of Life Church – Main building\, 110 S State Road\, Upper Darby\, PA\, 19082\, United States
CATEGORIES:Missions
ATTACH;FMTTYPE=image/jpeg:https://bol.church/wp-content/uploads/2022/09/evangelism-69thstreet.jpg
END:VEVENT
BEGIN:VEVENT
DTSTART;TZID=America/New_York:20240406T090000
DTEND;TZID=America/New_York:20240406T120000
DTSTAMP:20260419T164554
CREATED:20240926T012453Z
LAST-MODIFIED:20240926T012453Z
UID:2751-1712394000-1712404800@bol.church
SUMMARY:Evangelism- First Saturday of every month
DESCRIPTION:Every First Saturday of each month\, we gather together as a church for outreach/evangelism. Please do not hesitate to contact us if you\,  or someone you know has a need. \n 
URL:https://bol.church/event/evangelism-first-saturday-of-every-month-8/
LOCATION:Bread Of Life Church – Main building\, 110 S State Road\, Upper Darby\, PA\, 19082\, United States
CATEGORIES:Missions
ATTACH;FMTTYPE=image/jpeg:https://bol.church/wp-content/uploads/2022/09/evangelism-69thstreet.jpg
END:VEVENT
BEGIN:VEVENT
DTSTART;TZID=America/New_York:20240317T101500
DTEND;TZID=America/New_York:20240317T123000
DTSTAMP:20260419T164554
CREATED:20240923T202823Z
LAST-MODIFIED:20240923T203442Z
UID:2454-1710670500-1710678600@bol.church
SUMMARY:Missions Sunday & Kingdom Builders
DESCRIPTION:The third Sunday of every month is dedicated to supporting missionaries.
URL:https://bol.church/event/missions-sunday-kingdom-builders-6/
LOCATION:Bread Of Life Church – Main building\, 110 S State Road\, Upper Darby\, PA\, 19082\, United States
CATEGORIES:Missions
ATTACH;FMTTYPE=image/jpeg:https://bol.church/wp-content/uploads/2022/09/missions.jpg
END:VEVENT
END:VCALENDAR