BEGIN:VCALENDAR
VERSION:2.0
PRODID:-// - ECPv6.15.20//NONSGML v1.0//EN
CALSCALE:GREGORIAN
METHOD:PUBLISH
X-ORIGINAL-URL:https://bol.church
X-WR-CALDESC:Events for 
REFRESH-INTERVAL;VALUE=DURATION:PT1H
X-Robots-Tag:noindex
X-PUBLISHED-TTL:PT1H
BEGIN:VTIMEZONE
TZID:America/New_York
BEGIN:DAYLIGHT
TZOFFSETFROM:-0500
TZOFFSETTO:-0400
TZNAME:EDT
DTSTART:20230312T070000
END:DAYLIGHT
BEGIN:STANDARD
TZOFFSETFROM:-0400
TZOFFSETTO:-0500
TZNAME:EST
DTSTART:20231105T060000
END:STANDARD
BEGIN:DAYLIGHT
TZOFFSETFROM:-0500
TZOFFSETTO:-0400
TZNAME:EDT
DTSTART:20240310T070000
END:DAYLIGHT
BEGIN:STANDARD
TZOFFSETFROM:-0400
TZOFFSETTO:-0500
TZNAME:EST
DTSTART:20241103T060000
END:STANDARD
BEGIN:DAYLIGHT
TZOFFSETFROM:-0500
TZOFFSETTO:-0400
TZNAME:EDT
DTSTART:20250309T070000
END:DAYLIGHT
BEGIN:STANDARD
TZOFFSETFROM:-0400
TZOFFSETTO:-0500
TZNAME:EST
DTSTART:20251102T060000
END:STANDARD
BEGIN:DAYLIGHT
TZOFFSETFROM:-0500
TZOFFSETTO:-0400
TZNAME:EDT
DTSTART:20260308T070000
END:DAYLIGHT
BEGIN:STANDARD
TZOFFSETFROM:-0400
TZOFFSETTO:-0500
TZNAME:EST
DTSTART:20261101T060000
END:STANDARD
END:VTIMEZONE
BEGIN:VEVENT
DTSTART;TZID=America/New_York:20251227T090000
DTEND;TZID=America/New_York:20251227T100000
DTSTAMP:20260420T011453
CREATED:20250206T183703Z
LAST-MODIFIED:20250206T183703Z
UID:3246-1766826000-1766829600@bol.church
SUMMARY:Saturday Men's Breakfast
DESCRIPTION:All Men are encouraged to attend our monthly morning fellowship.\nOccurs every last  Saturday of the month at 9:AM.\n\nHave something you’d like us to pray for but can’t come in person? Drop your request at the Church’s dropbox or send us your request via PRAYER WALL
URL:https://bol.church/event/saturday-mens-breakfast-18/
LOCATION:Bread Of Life Church – Main building\, 110 S State Road\, Upper Darby\, PA\, 19082\, United States
CATEGORIES:Men-Events
ATTACH;FMTTYPE=image/jpeg:https://bol.church/wp-content/uploads/2024/09/qtq80-yMT0nL.jpeg
END:VEVENT
BEGIN:VEVENT
DTSTART;TZID=America/New_York:20251129T090000
DTEND;TZID=America/New_York:20251129T100000
DTSTAMP:20260420T011453
CREATED:20250206T183643Z
LAST-MODIFIED:20250206T183643Z
UID:3247-1764406800-1764410400@bol.church
SUMMARY:Saturday Men's Breakfast
DESCRIPTION:All Men are encouraged to attend our monthly morning fellowship.\nOccurs every last  Saturday of the month at 9:AM.\n\nHave something you’d like us to pray for but can’t come in person? Drop your request at the Church’s dropbox or send us your request via PRAYER WALL
URL:https://bol.church/event/saturday-mens-breakfast-17/
LOCATION:Bread Of Life Church – Main building\, 110 S State Road\, Upper Darby\, PA\, 19082\, United States
CATEGORIES:Men-Events
ATTACH;FMTTYPE=image/jpeg:https://bol.church/wp-content/uploads/2024/09/qtq80-yMT0nL.jpeg
END:VEVENT
BEGIN:VEVENT
DTSTART;TZID=America/New_York:20251025T090000
DTEND;TZID=America/New_York:20251025T100000
DTSTAMP:20260420T011453
CREATED:20250206T183625Z
LAST-MODIFIED:20250206T183625Z
UID:3248-1761382800-1761386400@bol.church
SUMMARY:Saturday Men's Breakfast
DESCRIPTION:All Men are encouraged to attend our monthly morning fellowship.\nOccurs every last  Saturday of the month at 9:AM.\n\nHave something you’d like us to pray for but can’t come in person? Drop your request at the Church’s dropbox or send us your request via PRAYER WALL
URL:https://bol.church/event/saturday-mens-breakfast-16/
LOCATION:Bread Of Life Church – Main building\, 110 S State Road\, Upper Darby\, PA\, 19082\, United States
CATEGORIES:Men-Events
ATTACH;FMTTYPE=image/jpeg:https://bol.church/wp-content/uploads/2024/09/qtq80-yMT0nL.jpeg
END:VEVENT
BEGIN:VEVENT
DTSTART;TZID=America/New_York:20250927T090000
DTEND;TZID=America/New_York:20250927T100000
DTSTAMP:20260420T011453
CREATED:20250206T183602Z
LAST-MODIFIED:20250206T183602Z
UID:3249-1758963600-1758967200@bol.church
SUMMARY:Saturday Men's Breakfast
DESCRIPTION:All Men are encouraged to attend our monthly morning fellowship.\nOccurs every last  Saturday of the month at 9:AM.\n\nHave something you’d like us to pray for but can’t come in person? Drop your request at the Church’s dropbox or send us your request via PRAYER WALL
URL:https://bol.church/event/saturday-mens-breakfast-15/
LOCATION:Bread Of Life Church – Main building\, 110 S State Road\, Upper Darby\, PA\, 19082\, United States
CATEGORIES:Men-Events
ATTACH;FMTTYPE=image/jpeg:https://bol.church/wp-content/uploads/2024/09/qtq80-yMT0nL.jpeg
END:VEVENT
BEGIN:VEVENT
DTSTART;TZID=America/New_York:20250830T090000
DTEND;TZID=America/New_York:20250830T100000
DTSTAMP:20260420T011453
CREATED:20250206T183545Z
LAST-MODIFIED:20250206T183545Z
UID:3250-1756544400-1756548000@bol.church
SUMMARY:Saturday Men's Breakfast
DESCRIPTION:All Men are encouraged to attend our monthly morning fellowship.\nOccurs every last  Saturday of the month at 9:AM.\n\nHave something you’d like us to pray for but can’t come in person? Drop your request at the Church’s dropbox or send us your request via PRAYER WALL
URL:https://bol.church/event/saturday-mens-breakfast-14/
LOCATION:Bread Of Life Church – Main building\, 110 S State Road\, Upper Darby\, PA\, 19082\, United States
CATEGORIES:Men-Events
ATTACH;FMTTYPE=image/jpeg:https://bol.church/wp-content/uploads/2024/09/qtq80-yMT0nL.jpeg
END:VEVENT
BEGIN:VEVENT
DTSTART;TZID=America/New_York:20250726T090000
DTEND;TZID=America/New_York:20250726T100000
DTSTAMP:20260420T011453
CREATED:20250206T183529Z
LAST-MODIFIED:20250206T183529Z
UID:3251-1753520400-1753524000@bol.church
SUMMARY:Saturday Men's Breakfast
DESCRIPTION:All Men are encouraged to attend our monthly morning fellowship.\nOccurs every last  Saturday of the month at 9:AM.\n\nHave something you’d like us to pray for but can’t come in person? Drop your request at the Church’s dropbox or send us your request via PRAYER WALL
URL:https://bol.church/event/saturday-mens-breakfast-13/
LOCATION:Bread Of Life Church – Main building\, 110 S State Road\, Upper Darby\, PA\, 19082\, United States
CATEGORIES:Men-Events
ATTACH;FMTTYPE=image/jpeg:https://bol.church/wp-content/uploads/2024/09/qtq80-yMT0nL.jpeg
END:VEVENT
BEGIN:VEVENT
DTSTART;TZID=America/New_York:20250628T090000
DTEND;TZID=America/New_York:20250628T100000
DTSTAMP:20260420T011453
CREATED:20250206T183506Z
LAST-MODIFIED:20250206T183506Z
UID:3252-1751101200-1751104800@bol.church
SUMMARY:Saturday Men's Breakfast
DESCRIPTION:All Men are encouraged to attend our monthly morning fellowship.\nOccurs every last  Saturday of the month at 9:AM.\n\nHave something you’d like us to pray for but can’t come in person? Drop your request at the Church’s dropbox or send us your request via PRAYER WALL
URL:https://bol.church/event/saturday-mens-breakfast-12/
LOCATION:Bread Of Life Church – Main building\, 110 S State Road\, Upper Darby\, PA\, 19082\, United States
CATEGORIES:Men-Events
ATTACH;FMTTYPE=image/jpeg:https://bol.church/wp-content/uploads/2024/09/qtq80-yMT0nL.jpeg
END:VEVENT
BEGIN:VEVENT
DTSTART;TZID=America/New_York:20250531T090000
DTEND;TZID=America/New_York:20250531T100000
DTSTAMP:20260420T011453
CREATED:20250206T183447Z
LAST-MODIFIED:20250206T183447Z
UID:3253-1748682000-1748685600@bol.church
SUMMARY:Saturday Men's Breakfast
DESCRIPTION:All Men are encouraged to attend our monthly morning fellowship.\nOccurs every last  Saturday of the month at 9:AM.\n\nHave something you’d like us to pray for but can’t come in person? Drop your request at the Church’s dropbox or send us your request via PRAYER WALL
URL:https://bol.church/event/saturday-mens-breakfast-11/
LOCATION:Bread Of Life Church – Main building\, 110 S State Road\, Upper Darby\, PA\, 19082\, United States
CATEGORIES:Men-Events
ATTACH;FMTTYPE=image/jpeg:https://bol.church/wp-content/uploads/2024/09/qtq80-yMT0nL.jpeg
END:VEVENT
BEGIN:VEVENT
DTSTART;TZID=America/New_York:20250426T090000
DTEND;TZID=America/New_York:20250426T100000
DTSTAMP:20260420T011453
CREATED:20250206T183415Z
LAST-MODIFIED:20250206T183415Z
UID:3254-1745658000-1745661600@bol.church
SUMMARY:Saturday Men's Breakfast
DESCRIPTION:All Men are encouraged to attend our monthly morning fellowship.\nOccurs every last  Saturday of the month at 9:AM.\n\nHave something you’d like us to pray for but can’t come in person? Drop your request at the Church’s dropbox or send us your request via PRAYER WALL
URL:https://bol.church/event/saturday-mens-breakfast-10/
LOCATION:Bread Of Life Church – Main building\, 110 S State Road\, Upper Darby\, PA\, 19082\, United States
CATEGORIES:Men-Events
ATTACH;FMTTYPE=image/jpeg:https://bol.church/wp-content/uploads/2024/09/qtq80-yMT0nL.jpeg
END:VEVENT
BEGIN:VEVENT
DTSTART;TZID=America/New_York:20250426T080000
DTEND;TZID=America/New_York:20250427T120000
DTSTAMP:20260420T011453
CREATED:20250430T004850Z
LAST-MODIFIED:20250430T004850Z
UID:3344-1745654400-1745755200@bol.church
SUMMARY:PennDel Men's Conference -Unbreakable
DESCRIPTION:Please see sister Bro. David Mangal for details. \nIt is our prayer and hope that all brothers participate in this event. \nTransportation and other arrangements from Bread Of Life to the conference center are being coordinated by Bro. David Mangal.
URL:https://bol.church/event/penndel-mens-conference-unbreakable/
LOCATION:Philadelphia Christian Center\, 2990 Street Rd\, Bensalem\, PA\, 19020\, United States
CATEGORIES:Men-Events
ATTACH;FMTTYPE=image/jpeg:https://bol.church/wp-content/uploads/2025/04/unbreakable-mantour.jpg
END:VEVENT
BEGIN:VEVENT
DTSTART;TZID=America/New_York:20250329T090000
DTEND;TZID=America/New_York:20250329T100000
DTSTAMP:20260420T011453
CREATED:20250206T183349Z
LAST-MODIFIED:20250206T183349Z
UID:3255-1743238800-1743242400@bol.church
SUMMARY:Saturday Men's Breakfast
DESCRIPTION:All Men are encouraged to attend our monthly morning fellowship.\nOccurs every last  Saturday of the month at 9:AM.\n\nHave something you’d like us to pray for but can’t come in person? Drop your request at the Church’s dropbox or send us your request via PRAYER WALL
URL:https://bol.church/event/saturday-mens-breakfast-9/
LOCATION:Bread Of Life Church – Main building\, 110 S State Road\, Upper Darby\, PA\, 19082\, United States
CATEGORIES:Men-Events
ATTACH;FMTTYPE=image/jpeg:https://bol.church/wp-content/uploads/2024/09/qtq80-yMT0nL.jpeg
END:VEVENT
BEGIN:VEVENT
DTSTART;TZID=America/New_York:20250222T090000
DTEND;TZID=America/New_York:20250222T100000
DTSTAMP:20260420T011453
CREATED:20240926T013943Z
LAST-MODIFIED:20250206T183136Z
UID:2777-1740214800-1740218400@bol.church
SUMMARY:Saturday Men's Breakfast
DESCRIPTION:All Men are encouraged to attend our monthly morning fellowship.\nOccurs every last  Saturday of the month at 9:AM.\n\nHave something you’d like us to pray for but can’t come in person? Drop your request at the Church’s dropbox or send us your request via PRAYER WALL
URL:https://bol.church/event/saturday-mens-breakfast-8/
LOCATION:Bread Of Life Church – Main building\, 110 S State Road\, Upper Darby\, PA\, 19082\, United States
CATEGORIES:Men-Events
ATTACH;FMTTYPE=image/jpeg:https://bol.church/wp-content/uploads/2024/09/qtq80-yMT0nL.jpeg
END:VEVENT
BEGIN:VEVENT
DTSTART;TZID=America/New_York:20241019T050000
DTEND;TZID=America/New_York:20241019T063000
DTSTAMP:20260420T011453
CREATED:20240926T013544Z
LAST-MODIFIED:20240926T013544Z
UID:2770-1729314000-1729319400@bol.church
SUMMARY:Saturday men's breakfast
DESCRIPTION:All Men are encouraged to attend our monthly morning fellowship.\nOccurs every 3rd Saturday at 9:AM.\n\nHave something you’d like us to pray for but can’t come in person? Drop your request at the Church’s dropbox or send us your request via PRAYER WALL
URL:https://bol.church/event/saturday-mens-breakfast-7/
LOCATION:Bread Of Life Church – Main building\, 110 S State Road\, Upper Darby\, PA\, 19082\, United States
CATEGORIES:Men-Events
ATTACH;FMTTYPE=image/jpeg:https://bol.church/wp-content/uploads/2024/09/qtq80-yMT0nL.jpeg
END:VEVENT
BEGIN:VEVENT
DTSTART;TZID=America/New_York:20240720T050000
DTEND;TZID=America/New_York:20240720T063000
DTSTAMP:20260420T011453
CREATED:20240926T013427Z
LAST-MODIFIED:20240926T013427Z
UID:2771-1721451600-1721457000@bol.church
SUMMARY:Saturday men's breakfast
DESCRIPTION:All Men are encouraged to attend our monthly morning fellowship.\nOccurs every 3rd Saturday at 9:AM.\n\nHave something you’d like us to pray for but can’t come in person? Drop your request at the Church’s dropbox or send us your request via PRAYER WALL
URL:https://bol.church/event/saturday-mens-breakfast-6/
LOCATION:Bread Of Life Church – Main building\, 110 S State Road\, Upper Darby\, PA\, 19082\, United States
CATEGORIES:Men-Events
ATTACH;FMTTYPE=image/jpeg:https://bol.church/wp-content/uploads/2024/09/qtq80-yMT0nL.jpeg
END:VEVENT
BEGIN:VEVENT
DTSTART;TZID=America/New_York:20240615T050000
DTEND;TZID=America/New_York:20240615T063000
DTSTAMP:20260420T011453
CREATED:20240926T013332Z
LAST-MODIFIED:20240926T013332Z
UID:2772-1718427600-1718433000@bol.church
SUMMARY:Saturday men's breakfast
DESCRIPTION:All Men are encouraged to attend our monthly morning fellowship.\nOccurs every 3rd Saturday at 9:AM.\n\nHave something you’d like us to pray for but can’t come in person? Drop your request at the Church’s dropbox or send us your request via PRAYER WALL
URL:https://bol.church/event/saturday-mens-breakfast-5/
LOCATION:Bread Of Life Church – Main building\, 110 S State Road\, Upper Darby\, PA\, 19082\, United States
CATEGORIES:Men-Events
ATTACH;FMTTYPE=image/jpeg:https://bol.church/wp-content/uploads/2024/09/qtq80-yMT0nL.jpeg
END:VEVENT
BEGIN:VEVENT
DTSTART;TZID=America/New_York:20240518T090000
DTEND;TZID=America/New_York:20240518T103000
DTSTAMP:20260420T011453
CREATED:20221202T193834Z
LAST-MODIFIED:20240926T013718Z
UID:1592-1716022800-1716028200@bol.church
SUMMARY:Saturday men's breakfast
DESCRIPTION:All Men are encouraged to attend our monthly morning fellowship.\nOccurs every 3rd Saturday at 9:AM.\n\nHave something you’d like us to pray for but can’t come in person? Drop your request at the Church’s dropbox or send us your request via PRAYER WALL
URL:https://bol.church/event/mens-ministry-meet-up-5/
LOCATION:Bread Of Life Church – Main building\, 110 S State Road\, Upper Darby\, PA\, 19082\, United States
CATEGORIES:Men-Events
ATTACH;FMTTYPE=image/jpeg:https://bol.church/wp-content/uploads/2022/09/evangelism-69thstreet.jpg
END:VEVENT
BEGIN:VEVENT
DTSTART;TZID=America/New_York:20240420T050000
DTEND;TZID=America/New_York:20240420T063000
DTSTAMP:20260420T011453
CREATED:20221202T193831Z
LAST-MODIFIED:20240926T013722Z
UID:1593-1713589200-1713594600@bol.church
SUMMARY:Saturday men's breakfast
DESCRIPTION:All Men are encouraged to attend our monthly morning fellowship.\nOccurs every 3rd Saturday at 9:AM.\n\nHave something you’d like us to pray for but can’t come in person? Drop your request at the Church’s dropbox or send us your request via PRAYER WALL
URL:https://bol.church/event/mens-ministry-meet-up-4/
LOCATION:Bread Of Life Church – Main building\, 110 S State Road\, Upper Darby\, PA\, 19082\, United States
CATEGORIES:Men-Events
ATTACH;FMTTYPE=image/jpeg:https://bol.church/wp-content/uploads/2024/09/qtq80-yMT0nL.jpeg
END:VEVENT
BEGIN:VEVENT
DTSTART;TZID=America/New_York:20240316T090000
DTEND;TZID=America/New_York:20240316T103000
DTSTAMP:20260420T011453
CREATED:20221202T193829Z
LAST-MODIFIED:20240926T013725Z
UID:1594-1710579600-1710585000@bol.church
SUMMARY:Saturday men's Breakfast
DESCRIPTION:All Men are encouraged to attend our monthly morning fellowship.\nOccurs every 3rd Saturday at 9:AM.\n\nHave something you’d like us to pray for but can’t come in person? Drop your request at the Church’s dropbox or send us your request via PRAYER WALL
URL:https://bol.church/event/mens-ministry-meet-up-3/
LOCATION:Bread Of Life Church – Main building\, 110 S State Road\, Upper Darby\, PA\, 19082\, United States
CATEGORIES:Men-Events
ATTACH;FMTTYPE=image/jpeg:https://bol.church/wp-content/uploads/2022/12/Men-having-Dinner.jpg
END:VEVENT
BEGIN:VEVENT
DTSTART;TZID=America/New_York:20240217T090000
DTEND;TZID=America/New_York:20240217T103000
DTSTAMP:20260420T011453
CREATED:20221202T193826Z
LAST-MODIFIED:20240926T013728Z
UID:1595-1708160400-1708165800@bol.church
SUMMARY:Saturday men's breakfast
DESCRIPTION:All Men are encouraged to attend our monthly morning fellowship.\nOccurs every 3rd Saturday at 9:AM.\n\nHave something you’d like us to pray for but can’t come in person? Drop your request at the Church’s dropbox or send us your request via PRAYER WALL
URL:https://bol.church/event/mens-ministry-meet-up-2/
LOCATION:Bread Of Life Church – Main building\, 110 S State Road\, Upper Darby\, PA\, 19082\, United States
CATEGORIES:Men-Events
ATTACH;FMTTYPE=image/jpeg:https://bol.church/wp-content/uploads/2024/09/qtq80-yMT0nL.jpeg
END:VEVENT
BEGIN:VEVENT
DTSTART;TZID=America/New_York:20240120T090000
DTEND;TZID=America/New_York:20240120T103000
DTSTAMP:20260420T011453
CREATED:20221202T193823Z
LAST-MODIFIED:20240926T013731Z
UID:1596-1705741200-1705746600@bol.church
SUMMARY:Saturday Men's breakfast
DESCRIPTION:All Men are encouraged to attend our monthly morning fellowship.\nOccurs every 3rd Saturday at 9:AM.\n\n\n\n  \nHave something you’d like us to pray for but can’t come in person? Drop your request at the Church’s dropbox or send us your request via PRAYER WALL
URL:https://bol.church/event/mens-ministry-meet-up/
LOCATION:Bread Of Life Church – Main building\, 110 S State Road\, Upper Darby\, PA\, 19082\, United States
CATEGORIES:Men-Events
ATTACH;FMTTYPE=image/jpeg:https://bol.church/wp-content/uploads/2024/09/qtq80-yMT0nL.jpeg
END:VEVENT
END:VCALENDAR