BEGIN:VCALENDAR
VERSION:2.0
PRODID:-// - ECPv6.15.20//NONSGML v1.0//EN
CALSCALE:GREGORIAN
METHOD:PUBLISH
X-ORIGINAL-URL:https://bol.church
X-WR-CALDESC:Events for 
REFRESH-INTERVAL;VALUE=DURATION:PT1H
X-Robots-Tag:noindex
X-PUBLISHED-TTL:PT1H
BEGIN:VTIMEZONE
TZID:America/New_York
BEGIN:DAYLIGHT
TZOFFSETFROM:-0500
TZOFFSETTO:-0400
TZNAME:EDT
DTSTART:20230312T070000
END:DAYLIGHT
BEGIN:STANDARD
TZOFFSETFROM:-0400
TZOFFSETTO:-0500
TZNAME:EST
DTSTART:20231105T060000
END:STANDARD
BEGIN:DAYLIGHT
TZOFFSETFROM:-0500
TZOFFSETTO:-0400
TZNAME:EDT
DTSTART:20240310T070000
END:DAYLIGHT
BEGIN:STANDARD
TZOFFSETFROM:-0400
TZOFFSETTO:-0500
TZNAME:EST
DTSTART:20241103T060000
END:STANDARD
BEGIN:DAYLIGHT
TZOFFSETFROM:-0500
TZOFFSETTO:-0400
TZNAME:EDT
DTSTART:20250309T070000
END:DAYLIGHT
BEGIN:STANDARD
TZOFFSETFROM:-0400
TZOFFSETTO:-0500
TZNAME:EST
DTSTART:20251102T060000
END:STANDARD
BEGIN:DAYLIGHT
TZOFFSETFROM:-0500
TZOFFSETTO:-0400
TZNAME:EDT
DTSTART:20260308T070000
END:DAYLIGHT
BEGIN:STANDARD
TZOFFSETFROM:-0400
TZOFFSETTO:-0500
TZNAME:EST
DTSTART:20261101T060000
END:STANDARD
END:VTIMEZONE
BEGIN:VEVENT
DTSTART;TZID=America/New_York:20251219T190000
DTEND;TZID=America/New_York:20251219T210000
DTSTAMP:20260420T011405
CREATED:20250117T201830Z
LAST-MODIFIED:20250117T201830Z
UID:3204-1766170800-1766178000@bol.church
SUMMARY:Friday Night Flame: 3rd Friday of every month
DESCRIPTION:Join us every 3rd Friday of the month as we celebrate in worship together through praise\, worship\, and prayers! \nNothing is too big for our Lord Jesus. We encourage you to come with a heart expecting a miracle from the Lord. \nTime and place – 7PM – 9 PM\,  Venue: Bread of Life worship edifice.
URL:https://bol.church/event/friday-night-flame-3rd-friday-of-every-month-22/
CATEGORIES:Friday Flame
ATTACH;FMTTYPE=image/jpeg:https://bol.church/wp-content/uploads/2021/05/img20211121_17532193.jpg
END:VEVENT
BEGIN:VEVENT
DTSTART;TZID=America/New_York:20251121T190000
DTEND;TZID=America/New_York:20251121T210000
DTSTAMP:20260420T011405
CREATED:20250117T201815Z
LAST-MODIFIED:20250117T201815Z
UID:3205-1763751600-1763758800@bol.church
SUMMARY:Friday Night Flame: 3rd Friday of every month
DESCRIPTION:Join us every 3rd Friday of the month as we celebrate in worship together through praise\, worship\, and prayers! \nNothing is too big for our Lord Jesus. We encourage you to come with a heart expecting a miracle from the Lord. \nTime and place – 7PM – 9 PM\,  Venue: Bread of Life worship edifice.
URL:https://bol.church/event/friday-night-flame-3rd-friday-of-every-month-21/
CATEGORIES:Friday Flame
ATTACH;FMTTYPE=image/jpeg:https://bol.church/wp-content/uploads/2021/05/img20211121_17532193.jpg
END:VEVENT
BEGIN:VEVENT
DTSTART;TZID=America/New_York:20251017T190000
DTEND;TZID=America/New_York:20251017T210000
DTSTAMP:20260420T011405
CREATED:20250117T201759Z
LAST-MODIFIED:20250117T201759Z
UID:3206-1760727600-1760734800@bol.church
SUMMARY:Friday Night Flame: 3rd Friday of every month
DESCRIPTION:Join us every 3rd Friday of the month as we celebrate in worship together through praise\, worship\, and prayers! \nNothing is too big for our Lord Jesus. We encourage you to come with a heart expecting a miracle from the Lord. \nTime and place – 7PM – 9 PM\,  Venue: Bread of Life worship edifice.
URL:https://bol.church/event/friday-night-flame-3rd-friday-of-every-month-20/
CATEGORIES:Friday Flame
ATTACH;FMTTYPE=image/jpeg:https://bol.church/wp-content/uploads/2021/05/img20211121_17532193.jpg
END:VEVENT
BEGIN:VEVENT
DTSTART;TZID=America/New_York:20250919T190000
DTEND;TZID=America/New_York:20250919T210000
DTSTAMP:20260420T011405
CREATED:20250117T201744Z
LAST-MODIFIED:20250117T201744Z
UID:3207-1758308400-1758315600@bol.church
SUMMARY:Friday Night Flame: 3rd Friday of every month
DESCRIPTION:Join us every 3rd Friday of the month as we celebrate in worship together through praise\, worship\, and prayers! \nNothing is too big for our Lord Jesus. We encourage you to come with a heart expecting a miracle from the Lord. \nTime and place – 7PM – 9 PM\,  Venue: Bread of Life worship edifice.
URL:https://bol.church/event/friday-night-flame-3rd-friday-of-every-month-19/
CATEGORIES:Friday Flame
ATTACH;FMTTYPE=image/jpeg:https://bol.church/wp-content/uploads/2021/05/img20211121_17532193.jpg
END:VEVENT
BEGIN:VEVENT
DTSTART;TZID=America/New_York:20250815T190000
DTEND;TZID=America/New_York:20250815T210000
DTSTAMP:20260420T011405
CREATED:20250117T201721Z
LAST-MODIFIED:20250117T201721Z
UID:3208-1755284400-1755291600@bol.church
SUMMARY:Friday Night Flame: 3rd Friday of every month
DESCRIPTION:Join us every 3rd Friday of the month as we celebrate in worship together through praise\, worship\, and prayers! \nNothing is too big for our Lord Jesus. We encourage you to come with a heart expecting a miracle from the Lord. \nTime and place – 7PM – 9 PM\,  Venue: Bread of Life worship edifice.
URL:https://bol.church/event/friday-night-flame-3rd-friday-of-every-month-18/
CATEGORIES:Friday Flame
ATTACH;FMTTYPE=image/jpeg:https://bol.church/wp-content/uploads/2021/05/img20211121_17532193.jpg
END:VEVENT
BEGIN:VEVENT
DTSTART;TZID=America/New_York:20250718T190000
DTEND;TZID=America/New_York:20250718T210000
DTSTAMP:20260420T011405
CREATED:20250117T201707Z
LAST-MODIFIED:20250117T201707Z
UID:3209-1752865200-1752872400@bol.church
SUMMARY:Friday Night Flame: 3rd Friday of every month
DESCRIPTION:Join us every 3rd Friday of the month as we celebrate in worship together through praise\, worship\, and prayers! \nNothing is too big for our Lord Jesus. We encourage you to come with a heart expecting a miracle from the Lord. \nTime and place – 7PM – 9 PM\,  Venue: Bread of Life worship edifice.
URL:https://bol.church/event/friday-night-flame-3rd-friday-of-every-month-17/
CATEGORIES:Friday Flame
ATTACH;FMTTYPE=image/jpeg:https://bol.church/wp-content/uploads/2021/05/img20211121_17532193.jpg
END:VEVENT
BEGIN:VEVENT
DTSTART;TZID=America/New_York:20250620T190000
DTEND;TZID=America/New_York:20250620T210000
DTSTAMP:20260420T011405
CREATED:20240926T010817Z
LAST-MODIFIED:20250117T201524Z
UID:2720-1750446000-1750453200@bol.church
SUMMARY:Friday Night Flame: 3rd Friday of every month
DESCRIPTION:Join us every 3rd Friday of the month as we celebrate in worship together through praise\, worship\, and prayers! \nNothing is too big for our Lord Jesus. We encourage you to come with a heart expecting a miracle from the Lord. \nTime and place – 7PM – 9 PM\,  Venue: Bread of Life worship edifice.
URL:https://bol.church/event/friday-night-flame-3rd-friday-of-every-month/
CATEGORIES:Friday Flame
ATTACH;FMTTYPE=image/jpeg:https://bol.church/wp-content/uploads/2021/05/img20211121_17532193.jpg
END:VEVENT
BEGIN:VEVENT
DTSTART;TZID=America/New_York:20250516T190000
DTEND;TZID=America/New_York:20250516T210000
DTSTAMP:20260420T011405
CREATED:20250117T201449Z
LAST-MODIFIED:20250117T201449Z
UID:3194-1747422000-1747429200@bol.church
SUMMARY:Friday Night Flame: 3rd Friday of every month
DESCRIPTION:Join us every 3rd Friday of the month as we celebrate in worship together through praise\, worship\, and prayers! \nNothing is too big for our Lord Jesus. We encourage you to come with a heart expecting a miracle from the Lord. \nTime and place – 7PM – 9 PM\,  Venue: Bread of Life worship edifice.
URL:https://bol.church/event/friday-night-flame-3rd-friday-of-every-month-16/
CATEGORIES:Friday Flame
ATTACH;FMTTYPE=image/jpeg:https://bol.church/wp-content/uploads/2021/05/img20211121_17532193.jpg
END:VEVENT
BEGIN:VEVENT
DTSTART;TZID=America/New_York:20250418T190000
DTEND;TZID=America/New_York:20250418T210000
DTSTAMP:20260420T011405
CREATED:20250117T201423Z
LAST-MODIFIED:20250117T201423Z
UID:3195-1745002800-1745010000@bol.church
SUMMARY:Friday Night Flame: 3rd Friday of every month
DESCRIPTION:Join us every 3rd Friday of the month as we celebrate in worship together through praise\, worship\, and prayers! \nNothing is too big for our Lord Jesus. We encourage you to come with a heart expecting a miracle from the Lord. \nTime and place – 7PM – 9 PM\,  Venue: Bread of Life worship edifice.
URL:https://bol.church/event/friday-night-flame-3rd-friday-of-every-month-15/
CATEGORIES:Friday Flame
ATTACH;FMTTYPE=image/jpeg:https://bol.church/wp-content/uploads/2021/05/img20211121_17532193.jpg
END:VEVENT
BEGIN:VEVENT
DTSTART;TZID=America/New_York:20250320T190000
DTEND;TZID=America/New_York:20250320T210000
DTSTAMP:20260420T011405
CREATED:20250117T201356Z
LAST-MODIFIED:20250117T201356Z
UID:3196-1742497200-1742504400@bol.church
SUMMARY:Friday Night Flame: 3rd Friday of every month
DESCRIPTION:Join us every 3rd Friday of the month as we celebrate in worship together through praise\, worship\, and prayers! \nNothing is too big for our Lord Jesus. We encourage you to come with a heart expecting a miracle from the Lord. \nTime and place – 7PM – 9 PM\,  Venue: Bread of Life worship edifice.
URL:https://bol.church/event/friday-night-flame-3rd-friday-of-every-month-14/
CATEGORIES:Friday Flame
ATTACH;FMTTYPE=image/jpeg:https://bol.church/wp-content/uploads/2021/05/img20211121_17532193.jpg
END:VEVENT
BEGIN:VEVENT
DTSTART;TZID=America/New_York:20250221T190000
DTEND;TZID=America/New_York:20250221T210000
DTSTAMP:20260420T011405
CREATED:20250117T201327Z
LAST-MODIFIED:20250117T201327Z
UID:3197-1740164400-1740171600@bol.church
SUMMARY:Friday Night Flame: 3rd Friday of every month
DESCRIPTION:Join us every 3rd Friday of the month as we celebrate in worship together through praise\, worship\, and prayers! \nNothing is too big for our Lord Jesus. We encourage you to come with a heart expecting a miracle from the Lord. \nTime and place – 7PM – 9 PM\,  Venue: Bread of Life worship edifice.
URL:https://bol.church/event/friday-night-flame-3rd-friday-of-every-month-10/
CATEGORIES:Friday Flame
ATTACH;FMTTYPE=image/jpeg:https://bol.church/wp-content/uploads/2021/05/img20211121_17532193.jpg
END:VEVENT
BEGIN:VEVENT
DTSTART;TZID=America/New_York:20250119T190000
DTEND;TZID=America/New_York:20250119T210000
DTSTAMP:20260420T011405
CREATED:20250117T201253Z
LAST-MODIFIED:20250117T201253Z
UID:3198-1737313200-1737320400@bol.church
SUMMARY:Friday Night Flame: 3rd Friday of every month
DESCRIPTION:Join us every 3rd Friday of the month as we celebrate in worship together through praise\, worship\, and prayers! \nNothing is too big for our Lord Jesus. We encourage you to come with a heart expecting a miracle from the Lord. \nTime and place – 7PM – 9 PM\,  Venue: Bread of Life worship edifice.
URL:https://bol.church/event/friday-night-flame-3rd-friday-of-every-month-9/
CATEGORIES:Friday Flame
ATTACH;FMTTYPE=image/jpeg:https://bol.church/wp-content/uploads/2021/05/img20211121_17532193.jpg
END:VEVENT
BEGIN:VEVENT
DTSTART;TZID=America/New_York:20241115T183000
DTEND;TZID=America/New_York:20241115T210000
DTSTAMP:20260420T011405
CREATED:20240926T010821Z
LAST-MODIFIED:20241010T165737Z
UID:2719-1731695400-1731704400@bol.church
SUMMARY:Missions  Banquet
DESCRIPTION:Friday Missions Banquet—6:30-9:00pm (banquet and message). \nOur visiting guest\, Pastor Leroy Singh\, will deliver a special message during this event.
URL:https://bol.church/event/friday-night-flame-3rd-friday-of-every-month-2/
CATEGORIES:Friday Flame
ATTACH;FMTTYPE=image/jpeg:https://bol.church/wp-content/uploads/2022/05/qtq80-lNOVae.jpeg
END:VEVENT
BEGIN:VEVENT
DTSTART;TZID=America/New_York:20241018T190000
DTEND;TZID=America/New_York:20241018T210000
DTSTAMP:20260420T011405
CREATED:20240926T010823Z
LAST-MODIFIED:20240926T010823Z
UID:2718-1729278000-1729285200@bol.church
SUMMARY:Friday Night Flame: 3rd Friday of every month
DESCRIPTION:Join us every 3rd Friday of the month as we celebrate in worship together through praise\, worship\, and prayers! \nNothing is too big for our Lord Jesus. We encourage you to come with a heart expecting a miracle from the Lord. \nTime and place – 7PM – 9 PM\,  Venue: Bread of Life worship edifice.
URL:https://bol.church/event/friday-night-flame-3rd-friday-of-every-month-3/
CATEGORIES:Friday Flame
ATTACH;FMTTYPE=image/jpeg:https://bol.church/wp-content/uploads/2021/05/img20211121_17532193.jpg
END:VEVENT
BEGIN:VEVENT
DTSTART;TZID=America/New_York:20240920T190000
DTEND;TZID=America/New_York:20240920T210000
DTSTAMP:20260420T011405
CREATED:20240926T010826Z
LAST-MODIFIED:20240926T010826Z
UID:2716-1726858800-1726866000@bol.church
SUMMARY:Friday Night Flame: 3rd Friday of every month
DESCRIPTION:Join us every 3rd Friday of the month as we celebrate in worship together through praise\, worship\, and prayers! \nNothing is too big for our Lord Jesus. We encourage you to come with a heart expecting a miracle from the Lord. \nTime and place – 7PM – 9 PM\,  Venue: Bread of Life worship edifice.
URL:https://bol.church/event/friday-night-flame-3rd-friday-of-every-month-4/
CATEGORIES:Friday Flame
ATTACH;FMTTYPE=image/jpeg:https://bol.church/wp-content/uploads/2021/05/img20211121_17532193.jpg
END:VEVENT
BEGIN:VEVENT
DTSTART;TZID=America/New_York:20240816T190000
DTEND;TZID=America/New_York:20240816T210000
DTSTAMP:20260420T011405
CREATED:20240926T010828Z
LAST-MODIFIED:20240926T010828Z
UID:2717-1723834800-1723842000@bol.church
SUMMARY:Friday Night Flame: 3rd Friday of every month
DESCRIPTION:Join us every 3rd Friday of the month as we celebrate in worship together through praise\, worship\, and prayers! \nNothing is too big for our Lord Jesus. We encourage you to come with a heart expecting a miracle from the Lord. \nTime and place – 7PM – 9 PM\,  Venue: Bread of Life worship edifice.
URL:https://bol.church/event/friday-night-flame-3rd-friday-of-every-month-5/
CATEGORIES:Friday Flame
ATTACH;FMTTYPE=image/jpeg:https://bol.church/wp-content/uploads/2021/05/img20211121_17532193.jpg
END:VEVENT
BEGIN:VEVENT
DTSTART;TZID=America/New_York:20240719T190000
DTEND;TZID=America/New_York:20240719T210000
DTSTAMP:20260420T011405
CREATED:20240926T010830Z
LAST-MODIFIED:20240926T010830Z
UID:2728-1721415600-1721422800@bol.church
SUMMARY:Friday Night Flame: 3rd Friday of every month
DESCRIPTION:Join us every 3rd Friday of the month as we celebrate in worship together through praise\, worship\, and prayers! \nNothing is too big for our Lord Jesus. We encourage you to come with a heart expecting a miracle from the Lord. \nTime and place – 7PM – 9 PM\,  Venue: Bread of Life worship edifice.
URL:https://bol.church/event/friday-night-flame-3rd-friday-of-every-month-6/
CATEGORIES:Friday Flame
ATTACH;FMTTYPE=image/jpeg:https://bol.church/wp-content/uploads/2021/05/img20211121_17532193.jpg
END:VEVENT
BEGIN:VEVENT
DTSTART;TZID=America/New_York:20240621T190000
DTEND;TZID=America/New_York:20240621T210000
DTSTAMP:20260420T011405
CREATED:20240926T010832Z
LAST-MODIFIED:20240926T010832Z
UID:2727-1718996400-1719003600@bol.church
SUMMARY:Friday Night Flame: 3rd Friday of every month
DESCRIPTION:Join us every 3rd Friday of the month as we celebrate in worship together through praise\, worship\, and prayers! \nNothing is too big for our Lord Jesus. We encourage you to come with a heart expecting a miracle from the Lord. \nTime and place – 7PM – 9 PM\,  Venue: Bread of Life worship edifice.
URL:https://bol.church/event/friday-night-flame-3rd-friday-of-every-month-7/
CATEGORIES:Friday Flame
ATTACH;FMTTYPE=image/jpeg:https://bol.church/wp-content/uploads/2021/05/img20211121_17532193.jpg
END:VEVENT
BEGIN:VEVENT
DTSTART;TZID=America/New_York:20240517T190000
DTEND;TZID=America/New_York:20240517T210000
DTSTAMP:20260420T011405
CREATED:20240926T010835Z
LAST-MODIFIED:20240926T010835Z
UID:2726-1715972400-1715979600@bol.church
SUMMARY:Friday Night Flame: 3rd Friday of every month
DESCRIPTION:Join us every 3rd Friday of the month as we celebrate in worship together through praise\, worship\, and prayers! \nNothing is too big for our Lord Jesus. We encourage you to come with a heart expecting a miracle from the Lord. \nTime and place – 7PM – 9 PM\,  Venue: Bread of Life worship edifice.
URL:https://bol.church/event/friday-night-flame-3rd-friday-of-every-month-8/
CATEGORIES:Friday Flame
ATTACH;FMTTYPE=image/jpeg:https://bol.church/wp-content/uploads/2021/05/img20211121_17532193.jpg
END:VEVENT
BEGIN:VEVENT
DTSTART;TZID=America/New_York:20240419T190000
DTEND;TZID=America/New_York:20240419T210000
DTSTAMP:20260420T011405
CREATED:20240926T010843Z
LAST-MODIFIED:20240926T010843Z
UID:2723-1713553200-1713560400@bol.church
SUMMARY:Friday Night Flame: 3rd Friday of every month
DESCRIPTION:Join us every 3rd Friday of the month as we celebrate in worship together through praise\, worship\, and prayers! \nNothing is too big for our Lord Jesus. We encourage you to come with a heart expecting a miracle from the Lord. \nTime and place – 7PM – 9 PM\,  Venue: Bread of Life worship edifice.
URL:https://bol.church/event/friday-night-flame-3rd-friday-of-every-month-11/
CATEGORIES:Friday Flame
ATTACH;FMTTYPE=image/jpeg:https://bol.church/wp-content/uploads/2021/05/img20211121_17532193.jpg
END:VEVENT
BEGIN:VEVENT
DTSTART;TZID=America/New_York:20240315T190000
DTEND;TZID=America/New_York:20240315T210000
DTSTAMP:20260420T011405
CREATED:20240926T010845Z
LAST-MODIFIED:20240926T010845Z
UID:2722-1710529200-1710536400@bol.church
SUMMARY:Friday Night Flame: 3rd Friday of every month
DESCRIPTION:Join us every 3rd Friday of the month as we celebrate in worship together through praise\, worship\, and prayers! \nNothing is too big for our Lord Jesus. We encourage you to come with a heart expecting a miracle from the Lord. \nTime and place – 7PM – 9 PM\,  Venue: Bread of Life worship edifice.
URL:https://bol.church/event/friday-night-flame-3rd-friday-of-every-month-12/
CATEGORIES:Friday Flame
ATTACH;FMTTYPE=image/jpeg:https://bol.church/wp-content/uploads/2021/05/img20211121_17532193.jpg
END:VEVENT
BEGIN:VEVENT
DTSTART;TZID=America/New_York:20240216T190000
DTEND;TZID=America/New_York:20240216T210000
DTSTAMP:20260420T011405
CREATED:20240926T010848Z
LAST-MODIFIED:20240926T010848Z
UID:2729-1708110000-1708117200@bol.church
SUMMARY:Friday Night Flame: 3rd Friday of every month
DESCRIPTION:Join us every 3rd Friday of the month as we celebrate in worship together through praise\, worship\, and prayers! \nNothing is too big for our Lord Jesus. We encourage you to come with a heart expecting a miracle from the Lord. \nTime and place – 7PM – 9 PM\,  Venue: Bread of Life worship edifice.
URL:https://bol.church/event/friday-night-flame-3rd-friday-of-every-month-13/
CATEGORIES:Friday Flame
ATTACH;FMTTYPE=image/jpeg:https://bol.church/wp-content/uploads/2021/05/img20211121_17532193.jpg
END:VEVENT
BEGIN:VEVENT
DTSTART;TZID=America/New_York:20240216T190000
DTEND;TZID=America/New_York:20240216T210000
DTSTAMP:20260420T011405
CREATED:20221208T044837Z
LAST-MODIFIED:20240516T163709Z
UID:1751-1708110000-1708117200@bol.church
SUMMARY:Friday Night Flame  Worship Service
DESCRIPTION:Join us every 3rd Friday of the month as we celebrate in worship together through praise\, worship\, and prayers! \nNothing is too big for our Lord Jesus. We encourage you to come with a heart expecting a miracle from the Lord. \nTime and place – 7PM – 9 PM\,  Venue: Bread of Life worship edifice.
URL:https://bol.church/event/friday-night-flame-worship-service-2/
LOCATION:Bread Of Life Church – Main building\, 110 S State Road\, Upper Darby\, PA\, 19082\, United States
CATEGORIES:Friday Flame
ATTACH;FMTTYPE=image/webp:https://bol.church/wp-content/uploads/2021/05/224123ad-9fb0-4f5c-926b-8ef02a67b3ab.webp
END:VEVENT
BEGIN:VEVENT
DTSTART;TZID=America/New_York:20240119T190000
DTEND;TZID=America/New_York:20240119T210000
DTSTAMP:20260420T011405
CREATED:20221208T044840Z
LAST-MODIFIED:20240926T010200Z
UID:1750-1705690800-1705698000@bol.church
SUMMARY:Friday Night Flame: 3rd Friday of every month
DESCRIPTION:Join us every 3rd Friday of the month as we celebrate in worship together through praise\, worship\, and prayers! \nNothing is too big for our Lord Jesus. We encourage you to come with a heart expecting a miracle from the Lord. \nTime and place – 7PM – 9 PM\,  Venue: Bread of Life worship edifice.
URL:https://bol.church/event/friday-night-flame-worship-service-3/
CATEGORIES:Friday Flame
ATTACH;FMTTYPE=image/jpeg:https://bol.church/wp-content/uploads/2021/05/img20211121_17532193.jpg
END:VEVENT
END:VCALENDAR