BEGIN:VCALENDAR
VERSION:2.0
PRODID:-// - ECPv6.15.20//NONSGML v1.0//EN
CALSCALE:GREGORIAN
METHOD:PUBLISH
X-ORIGINAL-URL:https://bol.church
X-WR-CALDESC:Events for 
REFRESH-INTERVAL;VALUE=DURATION:PT1H
X-Robots-Tag:noindex
X-PUBLISHED-TTL:PT1H
BEGIN:VTIMEZONE
TZID:America/New_York
BEGIN:DAYLIGHT
TZOFFSETFROM:-0500
TZOFFSETTO:-0400
TZNAME:EDT
DTSTART:20230312T070000
END:DAYLIGHT
BEGIN:STANDARD
TZOFFSETFROM:-0400
TZOFFSETTO:-0500
TZNAME:EST
DTSTART:20231105T060000
END:STANDARD
BEGIN:DAYLIGHT
TZOFFSETFROM:-0500
TZOFFSETTO:-0400
TZNAME:EDT
DTSTART:20240310T070000
END:DAYLIGHT
BEGIN:STANDARD
TZOFFSETFROM:-0400
TZOFFSETTO:-0500
TZNAME:EST
DTSTART:20241103T060000
END:STANDARD
BEGIN:DAYLIGHT
TZOFFSETFROM:-0500
TZOFFSETTO:-0400
TZNAME:EDT
DTSTART:20250309T070000
END:DAYLIGHT
BEGIN:STANDARD
TZOFFSETFROM:-0400
TZOFFSETTO:-0500
TZNAME:EST
DTSTART:20251102T060000
END:STANDARD
END:VTIMEZONE
BEGIN:VEVENT
DTSTART;TZID=America/New_York:20240821T190000
DTEND;TZID=America/New_York:20240821T200000
DTSTAMP:20260421T060517
CREATED:20240801T213411Z
LAST-MODIFIED:20240924T215420Z
UID:2377-1724266800-1724270400@bol.church
SUMMARY:Family Night Bible Study: Every Wednesday @ 7PM
DESCRIPTION:Each Wednesday at 7 pm\, we will be studying the 16 Foundational Truths of the Assemblies of God; notes from Pastor Tom’s WordQuest workbook will be provided each week. \nUpcoming topics include the Inspiration of the Word of God; the Unity and Trinity of God; the Deity and Humanity of Jesus; the Fall of Humanity; and Salvation.
URL:https://bol.church/event/adult-bible-study-every-wednesday-7pm-57/
LOCATION:Bread Of Life Church – Main building\, 110 S State Road\, Upper Darby\, PA\, 19082\, United States
ATTACH;FMTTYPE=image/png:https://bol.church/wp-content/uploads/2024/05/FAMILY-NIGHT-pic.png
END:VEVENT
BEGIN:VEVENT
DTSTART;TZID=America/New_York:20240821T190000
DTEND;TZID=America/New_York:20240821T200000
DTSTAMP:20260421T060517
CREATED:20240923T220045Z
LAST-MODIFIED:20240923T220045Z
UID:2531-1724266800-1724270400@bol.church
SUMMARY:Family Night Bible Study: Every Wednesday @ 7PM
DESCRIPTION:Each Wednesday at 7 pm\, we will be studying the 16 Foundational Truths of the Assemblies of God; notes from Pastor Tom’s WordQuest workbook will be provided each week. \nUpcoming topics include the Inspiration of the Word of God; the Unity and Trinity of God; the Deity and Humanity of Jesus; the Fall of Humanity; and Salvation.
URL:https://bol.church/event/family-night-bible-study-every-wednesday-7pm-5/
LOCATION:Bread Of Life Church – Main building\, 110 S State Road\, Upper Darby\, PA\, 19082\, United States
ATTACH;FMTTYPE=image/png:https://bol.church/wp-content/uploads/2024/05/FAMILY-NIGHT-pic.png
END:VEVENT
END:VCALENDAR