BEGIN:VCALENDAR
VERSION:2.0
PRODID:-// - ECPv6.15.20//NONSGML v1.0//EN
CALSCALE:GREGORIAN
METHOD:PUBLISH
X-ORIGINAL-URL:https://bol.church
X-WR-CALDESC:Events for 
REFRESH-INTERVAL;VALUE=DURATION:PT1H
X-Robots-Tag:noindex
X-PUBLISHED-TTL:PT1H
BEGIN:VTIMEZONE
TZID:America/New_York
BEGIN:DAYLIGHT
TZOFFSETFROM:-0500
TZOFFSETTO:-0400
TZNAME:EDT
DTSTART:20230312T070000
END:DAYLIGHT
BEGIN:STANDARD
TZOFFSETFROM:-0400
TZOFFSETTO:-0500
TZNAME:EST
DTSTART:20231105T060000
END:STANDARD
BEGIN:DAYLIGHT
TZOFFSETFROM:-0500
TZOFFSETTO:-0400
TZNAME:EDT
DTSTART:20240310T070000
END:DAYLIGHT
BEGIN:STANDARD
TZOFFSETFROM:-0400
TZOFFSETTO:-0500
TZNAME:EST
DTSTART:20241103T060000
END:STANDARD
BEGIN:DAYLIGHT
TZOFFSETFROM:-0500
TZOFFSETTO:-0400
TZNAME:EDT
DTSTART:20250309T070000
END:DAYLIGHT
BEGIN:STANDARD
TZOFFSETFROM:-0400
TZOFFSETTO:-0500
TZNAME:EST
DTSTART:20251102T060000
END:STANDARD
END:VTIMEZONE
BEGIN:VEVENT
DTSTART;TZID=America/New_York:20240818T101500
DTEND;TZID=America/New_York:20240818T123000
DTSTAMP:20260421T060942
CREATED:20240916T224803Z
LAST-MODIFIED:20240923T204045Z
UID:2451-1723976100-1723984200@bol.church
SUMMARY:Missions Sunday & Kingdom Builders
DESCRIPTION:The third Sunday of every month is dedicated to supporting missionaries.
URL:https://bol.church/event/missions-sunday-kingdom-builders-4/
LOCATION:Bread Of Life Church – Main building\, 110 S State Road\, Upper Darby\, PA\, 19082\, United States
ATTACH;FMTTYPE=image/jpeg:https://bol.church/wp-content/uploads/2022/09/missions.jpg
END:VEVENT
END:VCALENDAR