BEGIN:VCALENDAR
VERSION:2.0
PRODID:-// - ECPv6.15.20//NONSGML v1.0//EN
CALSCALE:GREGORIAN
METHOD:PUBLISH
X-ORIGINAL-URL:https://bol.church
X-WR-CALDESC:Events for 
REFRESH-INTERVAL;VALUE=DURATION:PT1H
X-Robots-Tag:noindex
X-PUBLISHED-TTL:PT1H
BEGIN:VTIMEZONE
TZID:America/New_York
BEGIN:DAYLIGHT
TZOFFSETFROM:-0500
TZOFFSETTO:-0400
TZNAME:EDT
DTSTART:20230312T070000
END:DAYLIGHT
BEGIN:STANDARD
TZOFFSETFROM:-0400
TZOFFSETTO:-0500
TZNAME:EST
DTSTART:20231105T060000
END:STANDARD
BEGIN:DAYLIGHT
TZOFFSETFROM:-0500
TZOFFSETTO:-0400
TZNAME:EDT
DTSTART:20240310T070000
END:DAYLIGHT
BEGIN:STANDARD
TZOFFSETFROM:-0400
TZOFFSETTO:-0500
TZNAME:EST
DTSTART:20241103T060000
END:STANDARD
BEGIN:DAYLIGHT
TZOFFSETFROM:-0500
TZOFFSETTO:-0400
TZNAME:EDT
DTSTART:20250309T070000
END:DAYLIGHT
BEGIN:STANDARD
TZOFFSETFROM:-0400
TZOFFSETTO:-0500
TZNAME:EST
DTSTART:20251102T060000
END:STANDARD
END:VTIMEZONE
BEGIN:VEVENT
DTSTART;TZID=America/New_York:20240804T101500
DTEND;TZID=America/New_York:20240804T123000
DTSTAMP:20260421T055714
CREATED:20240521T182813Z
LAST-MODIFIED:20240923T205617Z
UID:2318-1722766500-1722774600@bol.church
SUMMARY:Communion Service - First Sunday
DESCRIPTION:Whether it is your first time visiting us\, or a returning/current member\, you are welcome to participate in our open\ncommunion service once you know The Lord Jesus as your savior. \nWe only ask that parents or guardians of children kindly take oversight in allowing your child/children to participate\nin the communion service. If your child can clearly articulate their faith in The Lord Jesus\, they are also welcome\n(with your permission)\, to participate. \n1 Corinthians 11:17-34 has clear instructions on the Lord’s supper. Read it here
URL:https://bol.church/event/communion-sunday-12/
LOCATION:Bread Of Life Church – Main building\, 110 S State Road\, Upper Darby\, PA\, 19082\, United States
CATEGORIES:Communion Sundays
ATTACH;FMTTYPE=image/jpeg:https://bol.church/wp-content/uploads/2021/04/BOL-Communion-background.jpg
END:VEVENT
END:VCALENDAR